{"text_format":"3","workbook":"xlsx","n_sheets":2,"sheets":["Kalender","Fixtermine"],"not_rendered":{"defined_names":3,"comments":1},"read":"whole","date_system":"1900"}

{"sheet":"Kalender","index":0,"n_rows":369,"n_cols":11,"rows_kept":369}
["Wochentag","Datum","Fixtage","Uhrzeit",{"$f":"CONCATENATE(\"Termine für das Jahr \",YEAR(B2))","v":"Termine für das Jahr 2018"},"Ort","Bemerkungen",{"$f":"TODAY()","v":"2018-05-15"},"Termine eingeben","TT.MM."]
[{"$f":"CHOOSE(WEEKDAY(B2),\"Sonntag\",\"Montag\",\"Dienstag\",\"Mittwoch\",\"Donnerstag\",\"Freitag\",\"Samstag\")","v":"Montag"},"2018-01-01",{"$f":"IFERROR(VLOOKUP(B2,Fixtermine!$B$1:$E$208,3,FALSE),\"\")","v":"FT-Neujahr"},{"$nulls":5},"Beginn der Sommerferien","30.07.","<<(Punkte nicht vergessen)"]
[{"$f":"CHOOSE(WEEKDAY(B3),\"Sonntag\",\"Montag\",\"Dienstag\",\"Mittwoch\",\"Donnerstag\",\"Freitag\",\"Samstag\")","v":"Dienstag"},{"$f":"B2+1","v":"2018-01-02"},{"$f":"IFERROR(VLOOKUP(B3,Fixtermine!$B$1:$E$208,3,FALSE),\"\")","v":"Weihnachtsferien"},{"$nulls":5},"Ende der Sommerferien","12.09.","<<(Punkte nicht vergessen)"]
["Mittwoch","2018-01-03",{"$f":"IFERROR(VLOOKUP(B4,Fixtermine!$B$1:$E$208,3,FALSE),\"\")","v":"Weihnachtsferien"}]
["Donnerstag","2018-01-04",{"$f":"IFERROR(VLOOKUP(B5,Fixtermine!$B$1:$E$208,3,FALSE),\"\")","v":"Weihnachtsferien"}]
["Freitag","2018-01-05",{"$f":"IFERROR(VLOOKUP(B6,Fixtermine!$B$1:$E$208,3,FALSE),\"\")","v":"Weihnachtsferien"}]
["Samstag","2018-01-06",{"$f":"IFERROR(VLOOKUP(B7,Fixtermine!$B$1:$E$208,3,FALSE),\"\")","v":"FT-Hl. 3 Könige"}]
["Sonntag","2018-01-07",{"$f":"IFERROR(VLOOKUP(B8,Fixtermine!$B$1:$E$208,3,FALSE),\"\")","v":""}]
["Montag","2018-01-08",{"$f":"IFERROR(VLOOKUP(B9,Fixtermine!$B$1:$E$208,3,FALSE),\"\")","v":""}]
["Dienstag","2018-01-09",{"$f":"IFERROR(VLOOKUP(B10,Fixtermine!$B$1:$E$208,3,FALSE),\"\")","v":""}]
["Mittwoch","2018-01-10",{"$f":"IFERROR(VLOOKUP(B11,Fixtermine!$B$1:$E$208,3,FALSE),\"\")","v":""}]
["Donnerstag","2018-01-11",{"$f":"IFERROR(VLOOKUP(B12,Fixtermine!$B$1:$E$208,3,FALSE),\"\")","v":""}]
["Freitag","2018-01-12",{"$f":"IFERROR(VLOOKUP(B13,Fixtermine!$B$1:$E$208,3,FALSE),\"\")","v":""}]
["Samstag","2018-01-13",{"$f":"IFERROR(VLOOKUP(B14,Fixtermine!$B$1:$E$208,3,FALSE),\"\")","v":""}]
["Sonntag","2018-01-14",{"$f":"IFERROR(VLOOKUP(B15,Fixtermine!$B$1:$E$208,3,FALSE),\"\")","v":""}]
["Montag","2018-01-15",{"$f":"IFERROR(VLOOKUP(B16,Fixtermine!$B$1:$E$208,3,FALSE),\"\")","v":""}]
["Dienstag","2018-01-16",{"$f":"IFERROR(VLOOKUP(B17,Fixtermine!$B$1:$E$208,3,FALSE),\"\")","v":""}]
["Mittwoch","2018-01-17",{"$f":"IFERROR(VLOOKUP(B18,Fixtermine!$B$1:$E$208,3,FALSE),\"\")","v":""}]
["Donnerstag","2018-01-18",{"$f":"IFERROR(VLOOKUP(B19,Fixtermine!$B$1:$E$208,3,FALSE),\"\")","v":""}]
["Freitag","2018-01-19",{"$f":"IFERROR(VLOOKUP(B20,Fixtermine!$B$1:$E$208,3,FALSE),\"\")","v":""}]
["Samstag","2018-01-20",{"$f":"IFERROR(VLOOKUP(B21,Fixtermine!$B$1:$E$208,3,FALSE),\"\")","v":""}]
["Sonntag","2018-01-21",{"$f":"IFERROR(VLOOKUP(B22,Fixtermine!$B$1:$E$208,3,FALSE),\"\")","v":""}]
["Montag","2018-01-22",{"$f":"IFERROR(VLOOKUP(B23,Fixtermine!$B$1:$E$208,3,FALSE),\"\")","v":""}]
["Dienstag","2018-01-23",{"$f":"IFERROR(VLOOKUP(B24,Fixtermine!$B$1:$E$208,3,FALSE),\"\")","v":""}]
["Mittwoch","2018-01-24",{"$f":"IFERROR(VLOOKUP(B25,Fixtermine!$B$1:$E$208,3,FALSE),\"\")","v":""}]
["Donnerstag","2018-01-25",{"$f":"IFERROR(VLOOKUP(B26,Fixtermine!$B$1:$E$208,3,FALSE),\"\")","v":""}]
["Freitag","2018-01-26",{"$f":"IFERROR(VLOOKUP(B27,Fixtermine!$B$1:$E$208,3,FALSE),\"\")","v":""}]
["Samstag","2018-01-27",{"$f":"IFERROR(VLOOKUP(B28,Fixtermine!$B$1:$E$208,3,FALSE),\"\")","v":""}]
["Sonntag","2018-01-28",{"$f":"IFERROR(VLOOKUP(B29,Fixtermine!$B$1:$E$208,3,FALSE),\"\")","v":""}]
["Montag","2018-01-29",{"$f":"IFERROR(VLOOKUP(B30,Fixtermine!$B$1:$E$208,3,FALSE),\"\")","v":""}]
["Dienstag","2018-01-30",{"$f":"IFERROR(VLOOKUP(B31,Fixtermine!$B$1:$E$208,3,FALSE),\"\")","v":""}]
["Mittwoch","2018-01-31",{"$f":"IFERROR(VLOOKUP(B32,Fixtermine!$B$1:$E$208,3,FALSE),\"\")","v":""}]
["Donnerstag","2018-02-01",{"$f":"IFERROR(VLOOKUP(B33,Fixtermine!$B$1:$E$208,3,FALSE),\"\")","v":""}]
["Freitag","2018-02-02",{"$f":"IFERROR(VLOOKUP(B34,Fixtermine!$B$1:$E$208,3,FALSE),\"\")","v":""}]
["Samstag","2018-02-03",{"$f":"IFERROR(VLOOKUP(B35,Fixtermine!$B$1:$E$208,3,FALSE),\"\")","v":""}]
["Sonntag","2018-02-04",{"$f":"IFERROR(VLOOKUP(B36,Fixtermine!$B$1:$E$208,3,FALSE),\"\")","v":""}]
["Montag","2018-02-05",{"$f":"IFERROR(VLOOKUP(B37,Fixtermine!$B$1:$E$208,3,FALSE),\"\")","v":""}]
["Dienstag","2018-02-06",{"$f":"IFERROR(VLOOKUP(B38,Fixtermine!$B$1:$E$208,3,FALSE),\"\")","v":""}]
["Mittwoch","2018-02-07",{"$f":"IFERROR(VLOOKUP(B39,Fixtermine!$B$1:$E$208,3,FALSE),\"\")","v":""}]
["Donnerstag","2018-02-08",{"$f":"IFERROR(VLOOKUP(B40,Fixtermine!$B$1:$E$208,3,FALSE),\"\")","v":""}]
["Freitag","2018-02-09",{"$f":"IFERROR(VLOOKUP(B41,Fixtermine!$B$1:$E$208,3,FALSE),\"\")","v":""}]
["Samstag","2018-02-10",{"$f":"IFERROR(VLOOKUP(B42,Fixtermine!$B$1:$E$208,3,FALSE),\"\")","v":""}]
["Sonntag","2018-02-11",{"$f":"IFERROR(VLOOKUP(B43,Fixtermine!$B$1:$E$208,3,FALSE),\"\")","v":""}]
["Montag","2018-02-12",{"$f":"IFERROR(VLOOKUP(B44,Fixtermine!$B$1:$E$208,3,FALSE),\"\")","v":"Frühjahrsferien"}]
["Dienstag","2018-02-13",{"$f":"IFERROR(VLOOKUP(B45,Fixtermine!$B$1:$E$208,3,FALSE),\"\")","v":"Frühjahrsferien"}]
["Mittwoch","2018-02-14",{"$f":"IFERROR(VLOOKUP(B46,Fixtermine!$B$1:$E$208,3,FALSE),\"\")","v":"Aschermittw. / Ferien"}]
["Donnerstag","2018-02-15",{"$f":"IFERROR(VLOOKUP(B47,Fixtermine!$B$1:$E$208,3,FALSE),\"\")","v":"Frühjahrsferien"}]
["Freitag","2018-02-16",{"$f":"IFERROR(VLOOKUP(B48,Fixtermine!$B$1:$E$208,3,FALSE),\"\")","v":"Frühjahrsferien"}]
["Samstag","2018-02-17",{"$f":"IFERROR(VLOOKUP(B49,Fixtermine!$B$1:$E$208,3,FALSE),\"\")","v":""}]
["Sonntag","2018-02-18",{"$f":"IFERROR(VLOOKUP(B50,Fixtermine!$B$1:$E$208,3,FALSE),\"\")","v":""}]
["Montag","2018-02-19",{"$f":"IFERROR(VLOOKUP(B51,Fixtermine!$B$1:$E$208,3,FALSE),\"\")","v":""}]
["Dienstag","2018-02-20",{"$f":"IFERROR(VLOOKUP(B52,Fixtermine!$B$1:$E$208,3,FALSE),\"\")","v":""}]
["Mittwoch","2018-02-21",{"$f":"IFERROR(VLOOKUP(B53,Fixtermine!$B$1:$E$208,3,FALSE),\"\")","v":""}]
["Donnerstag","2018-02-22",{"$f":"IFERROR(VLOOKUP(B54,Fixtermine!$B$1:$E$208,3,FALSE),\"\")","v":""}]
["Freitag","2018-02-23",{"$f":"IFERROR(VLOOKUP(B55,Fixtermine!$B$1:$E$208,3,FALSE),\"\")","v":""}]
["Samstag","2018-02-24",{"$f":"IFERROR(VLOOKUP(B56,Fixtermine!$B$1:$E$208,3,FALSE),\"\")","v":""}]
["Sonntag","2018-02-25",{"$f":"IFERROR(VLOOKUP(B57,Fixtermine!$B$1:$E$208,3,FALSE),\"\")","v":""}]
["Montag","2018-02-26",{"$f":"IFERROR(VLOOKUP(B58,Fixtermine!$B$1:$E$208,3,FALSE),\"\")","v":""}]
["Dienstag","2018-02-27",{"$f":"IFERROR(VLOOKUP(B59,Fixtermine!$B$1:$E$208,3,FALSE),\"\")","v":""}]
["Mittwoch","2018-02-28",{"$f":"IFERROR(VLOOKUP(B60,Fixtermine!$B$1:$E$208,3,FALSE),\"\")","v":""}]
["Donnerstag","2018-03-01",{"$f":"IFERROR(VLOOKUP(B61,Fixtermine!$B$1:$E$208,3,FALSE),\"\")","v":""}]
["Freitag","2018-03-02",{"$f":"IFERROR(VLOOKUP(B62,Fixtermine!$B$1:$E$208,3,FALSE),\"\")","v":""}]
["Samstag","2018-03-03",{"$f":"IFERROR(VLOOKUP(B63,Fixtermine!$B$1:$E$208,3,FALSE),\"\")","v":""}]
["Sonntag","2018-03-04",{"$f":"IFERROR(VLOOKUP(B64,Fixtermine!$B$1:$E$208,3,FALSE),\"\")","v":""}]
["Montag","2018-03-05",{"$f":"IFERROR(VLOOKUP(B65,Fixtermine!$B$1:$E$208,3,FALSE),\"\")","v":""}]
["Dienstag","2018-03-06",{"$f":"IFERROR(VLOOKUP(B66,Fixtermine!$B$1:$E$208,3,FALSE),\"\")","v":""}]
[{"$f":"CHOOSE(WEEKDAY(B67),\"Sonntag\",\"Montag\",\"Dienstag\",\"Mittwoch\",\"Donnerstag\",\"Freitag\",\"Samstag\")","v":"Mittwoch"},"2018-03-07",{"$f":"IFERROR(VLOOKUP(B67,Fixtermine!$B$1:$E$208,3,FALSE),\"\")","v":""}]
["Donnerstag","2018-03-08",{"$f":"IFERROR(VLOOKUP(B68,Fixtermine!$B$1:$E$208,3,FALSE),\"\")","v":""}]
["Freitag",{"$f":"B68+1","v":"2018-03-09"},{"$f":"IFERROR(VLOOKUP(B69,Fixtermine!$B$1:$E$208,3,FALSE),\"\")","v":""}]
["Samstag","2018-03-10",{"$f":"IFERROR(VLOOKUP(B70,Fixtermine!$B$1:$E$208,3,FALSE),\"\")","v":""}]
["Sonntag","2018-03-11",{"$f":"IFERROR(VLOOKUP(B71,Fixtermine!$B$1:$E$208,3,FALSE),\"\")","v":""}]
["Montag","2018-03-12",{"$f":"IFERROR(VLOOKUP(B72,Fixtermine!$B$1:$E$208,3,FALSE),\"\")","v":""}]
["Dienstag","2018-03-13",{"$f":"IFERROR(VLOOKUP(B73,Fixtermine!$B$1:$E$208,3,FALSE),\"\")","v":""}]
["Mittwoch","2018-03-14",{"$f":"IFERROR(VLOOKUP(B74,Fixtermine!$B$1:$E$208,3,FALSE),\"\")","v":""}]
["Donnerstag","2018-03-15",{"$f":"IFERROR(VLOOKUP(B75,Fixtermine!$B$1:$E$208,3,FALSE),\"\")","v":""}]
["Freitag","2018-03-16",{"$f":"IFERROR(VLOOKUP(B76,Fixtermine!$B$1:$E$208,3,FALSE),\"\")","v":""}]
["Samstag","2018-03-17",{"$f":"IFERROR(VLOOKUP(B77,Fixtermine!$B$1:$E$208,3,FALSE),\"\")","v":""}]
["Sonntag","2018-03-18",{"$f":"IFERROR(VLOOKUP(B78,Fixtermine!$B$1:$E$208,3,FALSE),\"\")","v":""}]
["Montag","2018-03-19",{"$f":"IFERROR(VLOOKUP(B79,Fixtermine!$B$1:$E$208,3,FALSE),\"\")","v":""}]
["Dienstag","2018-03-20",{"$f":"IFERROR(VLOOKUP(B80,Fixtermine!$B$1:$E$208,3,FALSE),\"\")","v":""}]
["Mittwoch","2018-03-21",{"$f":"IFERROR(VLOOKUP(B81,Fixtermine!$B$1:$E$208,3,FALSE),\"\")","v":""}]
["Donnerstag","2018-03-22",{"$f":"IFERROR(VLOOKUP(B82,Fixtermine!$B$1:$E$208,3,FALSE),\"\")","v":""}]
["Freitag","2018-03-23",{"$f":"IFERROR(VLOOKUP(B83,Fixtermine!$B$1:$E$208,3,FALSE),\"\")","v":""}]
["Samstag","2018-03-24",{"$f":"IFERROR(VLOOKUP(B84,Fixtermine!$B$1:$E$208,3,FALSE),\"\")","v":""}]
["Sonntag","2018-03-25",{"$f":"IFERROR(VLOOKUP(B85,Fixtermine!$B$1:$E$208,3,FALSE),\"\")","v":""}]
["Montag","2018-03-26",{"$f":"IFERROR(VLOOKUP(B86,Fixtermine!$B$1:$E$208,3,FALSE),\"\")","v":"Osterferien"}]
["Dienstag","2018-03-27",{"$f":"IFERROR(VLOOKUP(B87,Fixtermine!$B$1:$E$208,3,FALSE),\"\")","v":"Osterferien"}]
["Mittwoch","2018-03-28",{"$f":"IFERROR(VLOOKUP(B88,Fixtermine!$B$1:$E$208,3,FALSE),\"\")","v":"Osterferien"}]
["Donnerstag","2018-03-29",{"$f":"IFERROR(VLOOKUP(B89,Fixtermine!$B$1:$E$208,3,FALSE),\"\")","v":"Osterferien"}]
["Freitag","2018-03-30",{"$f":"IFERROR(VLOOKUP(B90,Fixtermine!$B$1:$E$208,3,FALSE),\"\")","v":"FT-Karfreitag"}]
["Samstag","2018-03-31",{"$f":"IFERROR(VLOOKUP(B91,Fixtermine!$B$1:$E$208,3,FALSE),\"\")","v":"Osterferien"}]
["Sonntag","2018-04-01",{"$f":"IFERROR(VLOOKUP(B92,Fixtermine!$B$1:$E$208,3,FALSE),\"\")","v":"FT-Ostersonntag"}]
["Montag","2018-04-02",{"$f":"IFERROR(VLOOKUP(B93,Fixtermine!$B$1:$E$208,3,FALSE),\"\")","v":"FT-Ostermontag"}]
["Dienstag","2018-04-03",{"$f":"IFERROR(VLOOKUP(B94,Fixtermine!$B$1:$E$208,3,FALSE),\"\")","v":"Osterferien"}]
["Mittwoch","2018-04-04",{"$f":"IFERROR(VLOOKUP(B95,Fixtermine!$B$1:$E$208,3,FALSE),\"\")","v":"Osterferien"}]
["Donnerstag","2018-04-05",{"$f":"IFERROR(VLOOKUP(B96,Fixtermine!$B$1:$E$208,3,FALSE),\"\")","v":"Osterferien"}]
["Freitag","2018-04-06",{"$f":"IFERROR(VLOOKUP(B97,Fixtermine!$B$1:$E$208,3,FALSE),\"\")","v":"Osterferien"}]
["Samstag","2018-04-07",{"$f":"IFERROR(VLOOKUP(B98,Fixtermine!$B$1:$E$208,3,FALSE),\"\")","v":""}]
["Sonntag","2018-04-08",{"$f":"IFERROR(VLOOKUP(B99,Fixtermine!$B$1:$E$208,3,FALSE),\"\")","v":""}]
["Montag","2018-04-09",{"$f":"IFERROR(VLOOKUP(B100,Fixtermine!$B$1:$E$208,3,FALSE),\"\")","v":""}]
["Dienstag","2018-04-10",{"$f":"IFERROR(VLOOKUP(B101,Fixtermine!$B$1:$E$208,3,FALSE),\"\")","v":""}]
["Mittwoch","2018-04-11",{"$f":"IFERROR(VLOOKUP(B102,Fixtermine!$B$1:$E$208,3,FALSE),\"\")","v":""}]
["Donnerstag","2018-04-12",{"$f":"IFERROR(VLOOKUP(B103,Fixtermine!$B$1:$E$208,3,FALSE),\"\")","v":""}]
["Freitag","2018-04-13",{"$f":"IFERROR(VLOOKUP(B104,Fixtermine!$B$1:$E$208,3,FALSE),\"\")","v":""}]
["Samstag","2018-04-14",{"$f":"IFERROR(VLOOKUP(B105,Fixtermine!$B$1:$E$208,3,FALSE),\"\")","v":""}]
["Sonntag","2018-04-15",{"$f":"IFERROR(VLOOKUP(B106,Fixtermine!$B$1:$E$208,3,FALSE),\"\")","v":""}]
["Montag","2018-04-16",{"$f":"IFERROR(VLOOKUP(B107,Fixtermine!$B$1:$E$208,3,FALSE),\"\")","v":""}]
["Dienstag","2018-04-17",{"$f":"IFERROR(VLOOKUP(B108,Fixtermine!$B$1:$E$208,3,FALSE),\"\")","v":""}]
["Mittwoch","2018-04-18",{"$f":"IFERROR(VLOOKUP(B109,Fixtermine!$B$1:$E$208,3,FALSE),\"\")","v":""}]
["Donnerstag","2018-04-19",{"$f":"IFERROR(VLOOKUP(B110,Fixtermine!$B$1:$E$208,3,FALSE),\"\")","v":""}]
["Freitag","2018-04-20",{"$f":"IFERROR(VLOOKUP(B111,Fixtermine!$B$1:$E$208,3,FALSE),\"\")","v":""}]
["Samstag","2018-04-21",{"$f":"IFERROR(VLOOKUP(B112,Fixtermine!$B$1:$E$208,3,FALSE),\"\")","v":""}]
["Sonntag","2018-04-22",{"$f":"IFERROR(VLOOKUP(B113,Fixtermine!$B$1:$E$208,3,FALSE),\"\")","v":""}]
["Montag","2018-04-23",{"$f":"IFERROR(VLOOKUP(B114,Fixtermine!$B$1:$E$208,3,FALSE),\"\")","v":""}]
["Dienstag","2018-04-24",{"$f":"IFERROR(VLOOKUP(B115,Fixtermine!$B$1:$E$208,3,FALSE),\"\")","v":""}]
["Mittwoch","2018-04-25",{"$f":"IFERROR(VLOOKUP(B116,Fixtermine!$B$1:$E$208,3,FALSE),\"\")","v":""}]
["Donnerstag","2018-04-26",{"$f":"IFERROR(VLOOKUP(B117,Fixtermine!$B$1:$E$208,3,FALSE),\"\")","v":""}]
["Freitag","2018-04-27",{"$f":"IFERROR(VLOOKUP(B118,Fixtermine!$B$1:$E$208,3,FALSE),\"\")","v":""}]
["Samstag","2018-04-28",{"$f":"IFERROR(VLOOKUP(B119,Fixtermine!$B$1:$E$208,3,FALSE),\"\")","v":""}]
["Sonntag","2018-04-29",{"$f":"IFERROR(VLOOKUP(B120,Fixtermine!$B$1:$E$208,3,FALSE),\"\")","v":""}]
["Montag","2018-04-30",{"$f":"IFERROR(VLOOKUP(B121,Fixtermine!$B$1:$E$208,3,FALSE),\"\")","v":""}]
["Dienstag","2018-05-01",{"$f":"IFERROR(VLOOKUP(B122,Fixtermine!$B$1:$E$208,3,FALSE),\"\")","v":"FT-Tag der Arbeit"}]
["Mittwoch","2018-05-02",{"$f":"IFERROR(VLOOKUP(B123,Fixtermine!$B$1:$E$208,3,FALSE),\"\")","v":""}]
["Donnerstag","2018-05-03",{"$f":"IFERROR(VLOOKUP(B124,Fixtermine!$B$1:$E$208,3,FALSE),\"\")","v":""}]
["Freitag","2018-05-04",{"$f":"IFERROR(VLOOKUP(B125,Fixtermine!$B$1:$E$208,3,FALSE),\"\")","v":""}]
["Samstag","2018-05-05",{"$f":"IFERROR(VLOOKUP(B126,Fixtermine!$B$1:$E$208,3,FALSE),\"\")","v":""}]
["Sonntag","2018-05-06",{"$f":"IFERROR(VLOOKUP(B127,Fixtermine!$B$1:$E$208,3,FALSE),\"\")","v":""}]
["Montag","2018-05-07",{"$f":"IFERROR(VLOOKUP(B128,Fixtermine!$B$1:$E$208,3,FALSE),\"\")","v":""}]
["Dienstag","2018-05-08",{"$f":"IFERROR(VLOOKUP(B129,Fixtermine!$B$1:$E$208,3,FALSE),\"\")","v":""}]
["Mittwoch","2018-05-09",{"$f":"IFERROR(VLOOKUP(B130,Fixtermine!$B$1:$E$208,3,FALSE),\"\")","v":""}]
[{"$f":"CHOOSE(WEEKDAY(B131),\"Sonntag\",\"Montag\",\"Dienstag\",\"Mittwoch\",\"Donnerstag\",\"Freitag\",\"Samstag\")","v":"Donnerstag"},"2018-05-10",{"$f":"IFERROR(VLOOKUP(B131,Fixtermine!$B$1:$E$208,3,FALSE),\"\")","v":"FT-Ch. Himmelfahrt"}]
["Freitag","2018-05-11",{"$f":"IFERROR(VLOOKUP(B132,Fixtermine!$B$1:$E$208,3,FALSE),\"\")","v":""}]
["Samstag",{"$f":"B132+1","v":"2018-05-12"},{"$f":"IFERROR(VLOOKUP(B133,Fixtermine!$B$1:$E$208,3,FALSE),\"\")","v":""}]
["Sonntag","2018-05-13",{"$f":"IFERROR(VLOOKUP(B134,Fixtermine!$B$1:$E$208,3,FALSE),\"\")","v":""}]
["Montag","2018-05-14",{"$f":"IFERROR(VLOOKUP(B135,Fixtermine!$B$1:$E$208,3,FALSE),\"\")","v":""}]
["Dienstag","2018-05-15",{"$f":"IFERROR(VLOOKUP(B136,Fixtermine!$B$1:$E$208,3,FALSE),\"\")","v":""}]
["Mittwoch","2018-05-16",{"$f":"IFERROR(VLOOKUP(B137,Fixtermine!$B$1:$E$208,3,FALSE),\"\")","v":""}]
["Donnerstag","2018-05-17",{"$f":"IFERROR(VLOOKUP(B138,Fixtermine!$B$1:$E$208,3,FALSE),\"\")","v":""}]
["Freitag","2018-05-18",{"$f":"IFERROR(VLOOKUP(B139,Fixtermine!$B$1:$E$208,3,FALSE),\"\")","v":""}]
["Samstag","2018-05-19",{"$f":"IFERROR(VLOOKUP(B140,Fixtermine!$B$1:$E$208,3,FALSE),\"\")","v":""}]
["Sonntag","2018-05-20",{"$f":"IFERROR(VLOOKUP(B141,Fixtermine!$B$1:$E$208,3,FALSE),\"\")","v":"FT-Pfingstsonntag"}]
["Montag","2018-05-21",{"$f":"IFERROR(VLOOKUP(B142,Fixtermine!$B$1:$E$208,3,FALSE),\"\")","v":"FT-Pfingstmontag"}]
["Dienstag","2018-05-22",{"$f":"IFERROR(VLOOKUP(B143,Fixtermine!$B$1:$E$208,3,FALSE),\"\")","v":"Pfingstferien"}]
["Mittwoch","2018-05-23",{"$f":"IFERROR(VLOOKUP(B144,Fixtermine!$B$1:$E$208,3,FALSE),\"\")","v":"Pfingstferien"}]
["Donnerstag","2018-05-24",{"$f":"IFERROR(VLOOKUP(B145,Fixtermine!$B$1:$E$208,3,FALSE),\"\")","v":"Pfingstferien"}]
["Freitag","2018-05-25",{"$f":"IFERROR(VLOOKUP(B146,Fixtermine!$B$1:$E$208,3,FALSE),\"\")","v":"Pfingstferien"}]
["Samstag","2018-05-26",{"$f":"IFERROR(VLOOKUP(B147,Fixtermine!$B$1:$E$208,3,FALSE),\"\")","v":"Pfingstferien"}]
["Sonntag","2018-05-27",{"$f":"IFERROR(VLOOKUP(B148,Fixtermine!$B$1:$E$208,3,FALSE),\"\")","v":"Pfingstferien"}]
["Montag","2018-05-28",{"$f":"IFERROR(VLOOKUP(B149,Fixtermine!$B$1:$E$208,3,FALSE),\"\")","v":"Pfingstferien"}]
["Dienstag","2018-05-29",{"$f":"IFERROR(VLOOKUP(B150,Fixtermine!$B$1:$E$208,3,FALSE),\"\")","v":"Pfingstferien"}]
["Mittwoch","2018-05-30",{"$f":"IFERROR(VLOOKUP(B151,Fixtermine!$B$1:$E$208,3,FALSE),\"\")","v":"Pfingstferien"}]
["Donnerstag","2018-05-31",{"$f":"IFERROR(VLOOKUP(B152,Fixtermine!$B$1:$E$208,3,FALSE),\"\")","v":"FT-Fronleichnam"}]
["Freitag","2018-06-01",{"$f":"IFERROR(VLOOKUP(B153,Fixtermine!$B$1:$E$208,3,FALSE),\"\")","v":"Pfingstferien"}]
["Samstag","2018-06-02",{"$f":"IFERROR(VLOOKUP(B154,Fixtermine!$B$1:$E$208,3,FALSE),\"\")","v":""}]
["Sonntag","2018-06-03",{"$f":"IFERROR(VLOOKUP(B155,Fixtermine!$B$1:$E$208,3,FALSE),\"\")","v":""}]
["Montag","2018-06-04",{"$f":"IFERROR(VLOOKUP(B156,Fixtermine!$B$1:$E$208,3,FALSE),\"\")","v":""}]
["Dienstag","2018-06-05",{"$f":"IFERROR(VLOOKUP(B157,Fixtermine!$B$1:$E$208,3,FALSE),\"\")","v":""}]
["Mittwoch","2018-06-06",{"$f":"IFERROR(VLOOKUP(B158,Fixtermine!$B$1:$E$208,3,FALSE),\"\")","v":""}]
["Donnerstag","2018-06-07",{"$f":"IFERROR(VLOOKUP(B159,Fixtermine!$B$1:$E$208,3,FALSE),\"\")","v":""}]
["Freitag","2018-06-08",{"$f":"IFERROR(VLOOKUP(B160,Fixtermine!$B$1:$E$208,3,FALSE),\"\")","v":""}]
["Samstag","2018-06-09",{"$f":"IFERROR(VLOOKUP(B161,Fixtermine!$B$1:$E$208,3,FALSE),\"\")","v":""}]
["Sonntag","2018-06-10",{"$f":"IFERROR(VLOOKUP(B162,Fixtermine!$B$1:$E$208,3,FALSE),\"\")","v":""}]
["Montag","2018-06-11",{"$f":"IFERROR(VLOOKUP(B163,Fixtermine!$B$1:$E$208,3,FALSE),\"\")","v":""}]
["Dienstag","2018-06-12",{"$f":"IFERROR(VLOOKUP(B164,Fixtermine!$B$1:$E$208,3,FALSE),\"\")","v":""}]
["Mittwoch","2018-06-13",{"$f":"IFERROR(VLOOKUP(B165,Fixtermine!$B$1:$E$208,3,FALSE),\"\")","v":""}]
["Donnerstag","2018-06-14",{"$f":"IFERROR(VLOOKUP(B166,Fixtermine!$B$1:$E$208,3,FALSE),\"\")","v":""}]
["Freitag","2018-06-15",{"$f":"IFERROR(VLOOKUP(B167,Fixtermine!$B$1:$E$208,3,FALSE),\"\")","v":""}]
["Samstag","2018-06-16",{"$f":"IFERROR(VLOOKUP(B168,Fixtermine!$B$1:$E$208,3,FALSE),\"\")","v":""}]
["Sonntag","2018-06-17",{"$f":"IFERROR(VLOOKUP(B169,Fixtermine!$B$1:$E$208,3,FALSE),\"\")","v":""}]
["Montag","2018-06-18",{"$f":"IFERROR(VLOOKUP(B170,Fixtermine!$B$1:$E$208,3,FALSE),\"\")","v":""}]
["Dienstag","2018-06-19",{"$f":"IFERROR(VLOOKUP(B171,Fixtermine!$B$1:$E$208,3,FALSE),\"\")","v":""}]
["Mittwoch","2018-06-20",{"$f":"IFERROR(VLOOKUP(B172,Fixtermine!$B$1:$E$208,3,FALSE),\"\")","v":""}]
["Donnerstag","2018-06-21",{"$f":"IFERROR(VLOOKUP(B173,Fixtermine!$B$1:$E$208,3,FALSE),\"\")","v":""}]
["Freitag","2018-06-22",{"$f":"IFERROR(VLOOKUP(B174,Fixtermine!$B$1:$E$208,3,FALSE),\"\")","v":""}]
["Samstag","2018-06-23",{"$f":"IFERROR(VLOOKUP(B175,Fixtermine!$B$1:$E$208,3,FALSE),\"\")","v":""}]
["Sonntag","2018-06-24",{"$f":"IFERROR(VLOOKUP(B176,Fixtermine!$B$1:$E$208,3,FALSE),\"\")","v":""}]
["Montag","2018-06-25",{"$f":"IFERROR(VLOOKUP(B177,Fixtermine!$B$1:$E$208,3,FALSE),\"\")","v":""}]
["Dienstag","2018-06-26",{"$f":"IFERROR(VLOOKUP(B178,Fixtermine!$B$1:$E$208,3,FALSE),\"\")","v":""}]
["Mittwoch","2018-06-27",{"$f":"IFERROR(VLOOKUP(B179,Fixtermine!$B$1:$E$208,3,FALSE),\"\")","v":""}]
["Donnerstag","2018-06-28",{"$f":"IFERROR(VLOOKUP(B180,Fixtermine!$B$1:$E$208,3,FALSE),\"\")","v":""}]
["Freitag","2018-06-29",{"$f":"IFERROR(VLOOKUP(B181,Fixtermine!$B$1:$E$208,3,FALSE),\"\")","v":""}]
["Samstag","2018-06-30",{"$f":"IFERROR(VLOOKUP(B182,Fixtermine!$B$1:$E$208,3,FALSE),\"\")","v":""}]
["Sonntag","2018-07-01",{"$f":"IFERROR(VLOOKUP(B183,Fixtermine!$B$1:$E$208,3,FALSE),\"\")","v":""}]
["Montag","2018-07-02",{"$f":"IFERROR(VLOOKUP(B184,Fixtermine!$B$1:$E$208,3,FALSE),\"\")","v":""}]
["Dienstag","2018-07-03",{"$f":"IFERROR(VLOOKUP(B185,Fixtermine!$B$1:$E$208,3,FALSE),\"\")","v":""}]
["Mittwoch","2018-07-04",{"$f":"IFERROR(VLOOKUP(B186,Fixtermine!$B$1:$E$208,3,FALSE),\"\")","v":""}]
["Donnerstag","2018-07-05",{"$f":"IFERROR(VLOOKUP(B187,Fixtermine!$B$1:$E$208,3,FALSE),\"\")","v":""}]
["Freitag","2018-07-06",{"$f":"IFERROR(VLOOKUP(B188,Fixtermine!$B$1:$E$208,3,FALSE),\"\")","v":""}]
["Samstag","2018-07-07",{"$f":"IFERROR(VLOOKUP(B189,Fixtermine!$B$1:$E$208,3,FALSE),\"\")","v":""}]
["Sonntag","2018-07-08",{"$f":"IFERROR(VLOOKUP(B190,Fixtermine!$B$1:$E$208,3,FALSE),\"\")","v":""}]
["Montag","2018-07-09",{"$f":"IFERROR(VLOOKUP(B191,Fixtermine!$B$1:$E$208,3,FALSE),\"\")","v":""}]
["Dienstag","2018-07-10",{"$f":"IFERROR(VLOOKUP(B192,Fixtermine!$B$1:$E$208,3,FALSE),\"\")","v":""}]
["Mittwoch","2018-07-11",{"$f":"IFERROR(VLOOKUP(B193,Fixtermine!$B$1:$E$208,3,FALSE),\"\")","v":""}]
["Donnerstag","2018-07-12",{"$f":"IFERROR(VLOOKUP(B194,Fixtermine!$B$1:$E$208,3,FALSE),\"\")","v":""}]
[{"$f":"CHOOSE(WEEKDAY(B195),\"Sonntag\",\"Montag\",\"Dienstag\",\"Mittwoch\",\"Donnerstag\",\"Freitag\",\"Samstag\")","v":"Freitag"},"2018-07-13",{"$f":"IFERROR(VLOOKUP(B195,Fixtermine!$B$1:$E$208,3,FALSE),\"\")","v":""}]
["Samstag","2018-07-14",{"$f":"IFERROR(VLOOKUP(B196,Fixtermine!$B$1:$E$208,3,FALSE),\"\")","v":""}]
["Sonntag",{"$f":"B196+1","v":"2018-07-15"},{"$f":"IFERROR(VLOOKUP(B197,Fixtermine!$B$1:$E$208,3,FALSE),\"\")","v":""}]
["Montag","2018-07-16",{"$f":"IFERROR(VLOOKUP(B198,Fixtermine!$B$1:$E$208,3,FALSE),\"\")","v":""}]
["Dienstag","2018-07-17",{"$f":"IFERROR(VLOOKUP(B199,Fixtermine!$B$1:$E$208,3,FALSE),\"\")","v":""}]
["Mittwoch","2018-07-18",{"$f":"IFERROR(VLOOKUP(B200,Fixtermine!$B$1:$E$208,3,FALSE),\"\")","v":""}]
["Donnerstag","2018-07-19",{"$f":"IFERROR(VLOOKUP(B201,Fixtermine!$B$1:$E$208,3,FALSE),\"\")","v":""}]
["Freitag","2018-07-20",{"$f":"IFERROR(VLOOKUP(B202,Fixtermine!$B$1:$E$208,3,FALSE),\"\")","v":""}]
["Samstag","2018-07-21",{"$f":"IFERROR(VLOOKUP(B203,Fixtermine!$B$1:$E$208,3,FALSE),\"\")","v":""}]
["Sonntag","2018-07-22",{"$f":"IFERROR(VLOOKUP(B204,Fixtermine!$B$1:$E$208,3,FALSE),\"\")","v":""}]
["Montag","2018-07-23",{"$f":"IFERROR(VLOOKUP(B205,Fixtermine!$B$1:$E$208,3,FALSE),\"\")","v":""}]
["Dienstag","2018-07-24",{"$f":"IFERROR(VLOOKUP(B206,Fixtermine!$B$1:$E$208,3,FALSE),\"\")","v":""}]
["Mittwoch","2018-07-25",{"$f":"IFERROR(VLOOKUP(B207,Fixtermine!$B$1:$E$208,3,FALSE),\"\")","v":""}]
["Donnerstag","2018-07-26",{"$f":"IFERROR(VLOOKUP(B208,Fixtermine!$B$1:$E$208,3,FALSE),\"\")","v":""}]
["Freitag","2018-07-27",{"$f":"IFERROR(VLOOKUP(B209,Fixtermine!$B$1:$E$208,3,FALSE),\"\")","v":""}]
["Samstag","2018-07-28",{"$f":"IFERROR(VLOOKUP(B210,Fixtermine!$B$1:$E$208,3,FALSE),\"\")","v":""}]
["Sonntag","2018-07-29",{"$f":"IFERROR(VLOOKUP(B211,Fixtermine!$B$1:$E$208,3,FALSE),\"\")","v":""}]
["Montag","2018-07-30",{"$f":"IFERROR(VLOOKUP(B212,Fixtermine!$B$1:$E$208,3,FALSE),\"\")","v":"Sommerferien"}]
["Dienstag","2018-07-31",{"$f":"IFERROR(VLOOKUP(B213,Fixtermine!$B$1:$E$208,3,FALSE),\"\")","v":"Sommerferien"}]
["Mittwoch","2018-08-01",{"$f":"IFERROR(VLOOKUP(B214,Fixtermine!$B$1:$E$208,3,FALSE),\"\")","v":"Sommerferien"}]
["Donnerstag","2018-08-02",{"$f":"IFERROR(VLOOKUP(B215,Fixtermine!$B$1:$E$208,3,FALSE),\"\")","v":"Sommerferien"}]
["Freitag","2018-08-03",{"$f":"IFERROR(VLOOKUP(B216,Fixtermine!$B$1:$E$208,3,FALSE),\"\")","v":"Sommerferien"}]
["Samstag","2018-08-04",{"$f":"IFERROR(VLOOKUP(B217,Fixtermine!$B$1:$E$208,3,FALSE),\"\")","v":"Sommerferien"}]
["Sonntag","2018-08-05",{"$f":"IFERROR(VLOOKUP(B218,Fixtermine!$B$1:$E$208,3,FALSE),\"\")","v":"Sommerferien"}]
["Montag","2018-08-06",{"$f":"IFERROR(VLOOKUP(B219,Fixtermine!$B$1:$E$208,3,FALSE),\"\")","v":"Sommerferien"}]
["Dienstag","2018-08-07",{"$f":"IFERROR(VLOOKUP(B220,Fixtermine!$B$1:$E$208,3,FALSE),\"\")","v":"Sommerferien"}]
["Mittwoch","2018-08-08",{"$f":"IFERROR(VLOOKUP(B221,Fixtermine!$B$1:$E$208,3,FALSE),\"\")","v":"Sommerferien"}]
["Donnerstag","2018-08-09",{"$f":"IFERROR(VLOOKUP(B222,Fixtermine!$B$1:$E$208,3,FALSE),\"\")","v":"Sommerferien"}]
["Freitag","2018-08-10",{"$f":"IFERROR(VLOOKUP(B223,Fixtermine!$B$1:$E$208,3,FALSE),\"\")","v":"Sommerferien"}]
["Samstag","2018-08-11",{"$f":"IFERROR(VLOOKUP(B224,Fixtermine!$B$1:$E$208,3,FALSE),\"\")","v":"Sommerferien"}]
["Sonntag","2018-08-12",{"$f":"IFERROR(VLOOKUP(B225,Fixtermine!$B$1:$E$208,3,FALSE),\"\")","v":"Sommerferien"}]
["Montag","2018-08-13",{"$f":"IFERROR(VLOOKUP(B226,Fixtermine!$B$1:$E$208,3,FALSE),\"\")","v":"Sommerferien"}]
["Dienstag","2018-08-14",{"$f":"IFERROR(VLOOKUP(B227,Fixtermine!$B$1:$E$208,3,FALSE),\"\")","v":"Sommerferien"}]
["Mittwoch","2018-08-15",{"$f":"IFERROR(VLOOKUP(B228,Fixtermine!$B$1:$E$208,3,FALSE),\"\")","v":"FT-Maria Himmeklfahrt"}]
["Donnerstag","2018-08-16",{"$f":"IFERROR(VLOOKUP(B229,Fixtermine!$B$1:$E$208,3,FALSE),\"\")","v":"Sommerferien"}]
["Freitag","2018-08-17",{"$f":"IFERROR(VLOOKUP(B230,Fixtermine!$B$1:$E$208,3,FALSE),\"\")","v":"Sommerferien"}]
["Samstag","2018-08-18",{"$f":"IFERROR(VLOOKUP(B231,Fixtermine!$B$1:$E$208,3,FALSE),\"\")","v":"Sommerferien"}]
["Sonntag","2018-08-19",{"$f":"IFERROR(VLOOKUP(B232,Fixtermine!$B$1:$E$208,3,FALSE),\"\")","v":"Sommerferien"}]
["Montag","2018-08-20",{"$f":"IFERROR(VLOOKUP(B233,Fixtermine!$B$1:$E$208,3,FALSE),\"\")","v":"Sommerferien"}]
["Dienstag","2018-08-21",{"$f":"IFERROR(VLOOKUP(B234,Fixtermine!$B$1:$E$208,3,FALSE),\"\")","v":"Sommerferien"}]
["Mittwoch","2018-08-22",{"$f":"IFERROR(VLOOKUP(B235,Fixtermine!$B$1:$E$208,3,FALSE),\"\")","v":"Sommerferien"}]
["Donnerstag","2018-08-23",{"$f":"IFERROR(VLOOKUP(B236,Fixtermine!$B$1:$E$208,3,FALSE),\"\")","v":"Sommerferien"}]
["Freitag","2018-08-24",{"$f":"IFERROR(VLOOKUP(B237,Fixtermine!$B$1:$E$208,3,FALSE),\"\")","v":"Sommerferien"}]
["Samstag","2018-08-25",{"$f":"IFERROR(VLOOKUP(B238,Fixtermine!$B$1:$E$208,3,FALSE),\"\")","v":"Sommerferien"}]
["Sonntag","2018-08-26",{"$f":"IFERROR(VLOOKUP(B239,Fixtermine!$B$1:$E$208,3,FALSE),\"\")","v":"Sommerferien"}]
["Montag","2018-08-27",{"$f":"IFERROR(VLOOKUP(B240,Fixtermine!$B$1:$E$208,3,FALSE),\"\")","v":"Sommerferien"}]
["Dienstag","2018-08-28",{"$f":"IFERROR(VLOOKUP(B241,Fixtermine!$B$1:$E$208,3,FALSE),\"\")","v":"Sommerferien"}]
["Mittwoch","2018-08-29",{"$f":"IFERROR(VLOOKUP(B242,Fixtermine!$B$1:$E$208,3,FALSE),\"\")","v":"Sommerferien"}]
["Donnerstag","2018-08-30",{"$f":"IFERROR(VLOOKUP(B243,Fixtermine!$B$1:$E$208,3,FALSE),\"\")","v":"Sommerferien"}]
["Freitag","2018-08-31",{"$f":"IFERROR(VLOOKUP(B244,Fixtermine!$B$1:$E$208,3,FALSE),\"\")","v":"Sommerferien"}]
["Samstag","2018-09-01",{"$f":"IFERROR(VLOOKUP(B245,Fixtermine!$B$1:$E$208,3,FALSE),\"\")","v":"Sommerferien"}]
["Sonntag","2018-09-02",{"$f":"IFERROR(VLOOKUP(B246,Fixtermine!$B$1:$E$208,3,FALSE),\"\")","v":"Sommerferien"}]
["Montag","2018-09-03",{"$f":"IFERROR(VLOOKUP(B247,Fixtermine!$B$1:$E$208,3,FALSE),\"\")","v":"Sommerferien"}]
["Dienstag","2018-09-04",{"$f":"IFERROR(VLOOKUP(B248,Fixtermine!$B$1:$E$208,3,FALSE),\"\")","v":"Sommerferien"}]
["Mittwoch","2018-09-05",{"$f":"IFERROR(VLOOKUP(B249,Fixtermine!$B$1:$E$208,3,FALSE),\"\")","v":"Sommerferien"}]
["Donnerstag","2018-09-06",{"$f":"IFERROR(VLOOKUP(B250,Fixtermine!$B$1:$E$208,3,FALSE),\"\")","v":"Sommerferien"}]
["Freitag","2018-09-07",{"$f":"IFERROR(VLOOKUP(B251,Fixtermine!$B$1:$E$208,3,FALSE),\"\")","v":"Sommerferien"}]
["Samstag","2018-09-08",{"$f":"IFERROR(VLOOKUP(B252,Fixtermine!$B$1:$E$208,3,FALSE),\"\")","v":"Sommerferien"}]
["Sonntag","2018-09-09",{"$f":"IFERROR(VLOOKUP(B253,Fixtermine!$B$1:$E$208,3,FALSE),\"\")","v":"Sommerferien"}]
["Montag","2018-09-10",{"$f":"IFERROR(VLOOKUP(B254,Fixtermine!$B$1:$E$208,3,FALSE),\"\")","v":"Sommerferien"}]
["Dienstag","2018-09-11",{"$f":"IFERROR(VLOOKUP(B255,Fixtermine!$B$1:$E$208,3,FALSE),\"\")","v":""}]
["Mittwoch","2018-09-12",{"$f":"IFERROR(VLOOKUP(B256,Fixtermine!$B$1:$E$208,3,FALSE),\"\")","v":""}]
["Donnerstag","2018-09-13",{"$f":"IFERROR(VLOOKUP(B257,Fixtermine!$B$1:$E$208,3,FALSE),\"\")","v":""}]
["Freitag","2018-09-14",{"$f":"IFERROR(VLOOKUP(B258,Fixtermine!$B$1:$E$208,3,FALSE),\"\")","v":""}]
[{"$f":"CHOOSE(WEEKDAY(B259),\"Sonntag\",\"Montag\",\"Dienstag\",\"Mittwoch\",\"Donnerstag\",\"Freitag\",\"Samstag\")","v":"Samstag"},"2018-09-15",{"$f":"IFERROR(VLOOKUP(B259,Fixtermine!$B$1:$E$208,3,FALSE),\"\")","v":""}]
["Sonntag","2018-09-16",{"$f":"IFERROR(VLOOKUP(B260,Fixtermine!$B$1:$E$208,3,FALSE),\"\")","v":""}]
["Montag",{"$f":"B260+1","v":"2018-09-17"},{"$f":"IFERROR(VLOOKUP(B261,Fixtermine!$B$1:$E$208,3,FALSE),\"\")","v":""}]
["Dienstag","2018-09-18",{"$f":"IFERROR(VLOOKUP(B262,Fixtermine!$B$1:$E$208,3,FALSE),\"\")","v":""}]
["Mittwoch","2018-09-19",{"$f":"IFERROR(VLOOKUP(B263,Fixtermine!$B$1:$E$208,3,FALSE),\"\")","v":""}]
["Donnerstag","2018-09-20",{"$f":"IFERROR(VLOOKUP(B264,Fixtermine!$B$1:$E$208,3,FALSE),\"\")","v":""}]
["Freitag","2018-09-21",{"$f":"IFERROR(VLOOKUP(B265,Fixtermine!$B$1:$E$208,3,FALSE),\"\")","v":""}]
["Samstag","2018-09-22",{"$f":"IFERROR(VLOOKUP(B266,Fixtermine!$B$1:$E$208,3,FALSE),\"\")","v":""}]
["Sonntag","2018-09-23",{"$f":"IFERROR(VLOOKUP(B267,Fixtermine!$B$1:$E$208,3,FALSE),\"\")","v":""}]
["Montag","2018-09-24",{"$f":"IFERROR(VLOOKUP(B268,Fixtermine!$B$1:$E$208,3,FALSE),\"\")","v":""}]
["Dienstag","2018-09-25",{"$f":"IFERROR(VLOOKUP(B269,Fixtermine!$B$1:$E$208,3,FALSE),\"\")","v":""}]
["Mittwoch","2018-09-26",{"$f":"IFERROR(VLOOKUP(B270,Fixtermine!$B$1:$E$208,3,FALSE),\"\")","v":""}]
["Donnerstag","2018-09-27",{"$f":"IFERROR(VLOOKUP(B271,Fixtermine!$B$1:$E$208,3,FALSE),\"\")","v":""}]
["Freitag","2018-09-28",{"$f":"IFERROR(VLOOKUP(B272,Fixtermine!$B$1:$E$208,3,FALSE),\"\")","v":""}]
["Samstag","2018-09-29",{"$f":"IFERROR(VLOOKUP(B273,Fixtermine!$B$1:$E$208,3,FALSE),\"\")","v":""}]
["Sonntag","2018-09-30",{"$f":"IFERROR(VLOOKUP(B274,Fixtermine!$B$1:$E$208,3,FALSE),\"\")","v":""}]
["Montag","2018-10-01",{"$f":"IFERROR(VLOOKUP(B275,Fixtermine!$B$1:$E$208,3,FALSE),\"\")","v":""}]
["Dienstag","2018-10-02",{"$f":"IFERROR(VLOOKUP(B276,Fixtermine!$B$1:$E$208,3,FALSE),\"\")","v":""}]
["Mittwoch","2018-10-03",{"$f":"IFERROR(VLOOKUP(B277,Fixtermine!$B$1:$E$208,3,FALSE),\"\")","v":"FT-Tag d. Deut. Einheit"}]
["Donnerstag","2018-10-04",{"$f":"IFERROR(VLOOKUP(B278,Fixtermine!$B$1:$E$208,3,FALSE),\"\")","v":""}]
["Freitag","2018-10-05",{"$f":"IFERROR(VLOOKUP(B279,Fixtermine!$B$1:$E$208,3,FALSE),\"\")","v":""}]
["Samstag","2018-10-06",{"$f":"IFERROR(VLOOKUP(B280,Fixtermine!$B$1:$E$208,3,FALSE),\"\")","v":""}]
["Sonntag","2018-10-07",{"$f":"IFERROR(VLOOKUP(B281,Fixtermine!$B$1:$E$208,3,FALSE),\"\")","v":""}]
["Montag","2018-10-08",{"$f":"IFERROR(VLOOKUP(B282,Fixtermine!$B$1:$E$208,3,FALSE),\"\")","v":""}]
["Dienstag","2018-10-09",{"$f":"IFERROR(VLOOKUP(B283,Fixtermine!$B$1:$E$208,3,FALSE),\"\")","v":""}]
["Mittwoch","2018-10-10",{"$f":"IFERROR(VLOOKUP(B284,Fixtermine!$B$1:$E$208,3,FALSE),\"\")","v":""}]
["Donnerstag","2018-10-11",{"$f":"IFERROR(VLOOKUP(B285,Fixtermine!$B$1:$E$208,3,FALSE),\"\")","v":""}]
["Freitag","2018-10-12",{"$f":"IFERROR(VLOOKUP(B286,Fixtermine!$B$1:$E$208,3,FALSE),\"\")","v":""}]
["Samstag","2018-10-13",{"$f":"IFERROR(VLOOKUP(B287,Fixtermine!$B$1:$E$208,3,FALSE),\"\")","v":""}]
["Sonntag","2018-10-14",{"$f":"IFERROR(VLOOKUP(B288,Fixtermine!$B$1:$E$208,3,FALSE),\"\")","v":""}]
["Montag","2018-10-15",{"$f":"IFERROR(VLOOKUP(B289,Fixtermine!$B$1:$E$208,3,FALSE),\"\")","v":""}]
["Dienstag","2018-10-16",{"$f":"IFERROR(VLOOKUP(B290,Fixtermine!$B$1:$E$208,3,FALSE),\"\")","v":""}]
["Mittwoch","2018-10-17",{"$f":"IFERROR(VLOOKUP(B291,Fixtermine!$B$1:$E$208,3,FALSE),\"\")","v":""}]
["Donnerstag","2018-10-18",{"$f":"IFERROR(VLOOKUP(B292,Fixtermine!$B$1:$E$208,3,FALSE),\"\")","v":""}]
["Freitag","2018-10-19",{"$f":"IFERROR(VLOOKUP(B293,Fixtermine!$B$1:$E$208,3,FALSE),\"\")","v":""}]
["Samstag","2018-10-20",{"$f":"IFERROR(VLOOKUP(B294,Fixtermine!$B$1:$E$208,3,FALSE),\"\")","v":""}]
["Sonntag","2018-10-21",{"$f":"IFERROR(VLOOKUP(B295,Fixtermine!$B$1:$E$208,3,FALSE),\"\")","v":""}]
["Montag","2018-10-22",{"$f":"IFERROR(VLOOKUP(B296,Fixtermine!$B$1:$E$208,3,FALSE),\"\")","v":""}]
["Dienstag","2018-10-23",{"$f":"IFERROR(VLOOKUP(B297,Fixtermine!$B$1:$E$208,3,FALSE),\"\")","v":""}]
["Mittwoch","2018-10-24",{"$f":"IFERROR(VLOOKUP(B298,Fixtermine!$B$1:$E$208,3,FALSE),\"\")","v":""}]
["Donnerstag","2018-10-25",{"$f":"IFERROR(VLOOKUP(B299,Fixtermine!$B$1:$E$208,3,FALSE),\"\")","v":""}]
["Freitag","2018-10-26",{"$f":"IFERROR(VLOOKUP(B300,Fixtermine!$B$1:$E$208,3,FALSE),\"\")","v":""}]
["Samstag","2018-10-27",{"$f":"IFERROR(VLOOKUP(B301,Fixtermine!$B$1:$E$208,3,FALSE),\"\")","v":""}]
["Sonntag","2018-10-28",{"$f":"IFERROR(VLOOKUP(B302,Fixtermine!$B$1:$E$208,3,FALSE),\"\")","v":""}]
["Montag","2018-10-29",{"$f":"IFERROR(VLOOKUP(B303,Fixtermine!$B$1:$E$208,3,FALSE),\"\")","v":"Herbstferien"}]
["Dienstag","2018-10-30",{"$f":"IFERROR(VLOOKUP(B304,Fixtermine!$B$1:$E$208,3,FALSE),\"\")","v":"Herbstferien"}]
["Mittwoch","2018-10-31",{"$f":"IFERROR(VLOOKUP(B305,Fixtermine!$B$1:$E$208,3,FALSE),\"\")","v":"Herbstferien"}]
["Donnerstag","2018-11-01",{"$f":"IFERROR(VLOOKUP(B306,Fixtermine!$B$1:$E$208,3,FALSE),\"\")","v":"FT-Allerheiligen"}]
["Freitag","2018-11-02",{"$f":"IFERROR(VLOOKUP(B307,Fixtermine!$B$1:$E$208,3,FALSE),\"\")","v":"Herbstferien"}]
["Samstag","2018-11-03",{"$f":"IFERROR(VLOOKUP(B308,Fixtermine!$B$1:$E$208,3,FALSE),\"\")","v":""}]
["Sonntag","2018-11-04",{"$f":"IFERROR(VLOOKUP(B309,Fixtermine!$B$1:$E$208,3,FALSE),\"\")","v":""}]
["Montag","2018-11-05",{"$f":"IFERROR(VLOOKUP(B310,Fixtermine!$B$1:$E$208,3,FALSE),\"\")","v":""}]
["Dienstag","2018-11-06",{"$f":"IFERROR(VLOOKUP(B311,Fixtermine!$B$1:$E$208,3,FALSE),\"\")","v":""}]
["Mittwoch","2018-11-07",{"$f":"IFERROR(VLOOKUP(B312,Fixtermine!$B$1:$E$208,3,FALSE),\"\")","v":""}]
["Donnerstag","2018-11-08",{"$f":"IFERROR(VLOOKUP(B313,Fixtermine!$B$1:$E$208,3,FALSE),\"\")","v":""}]
["Freitag","2018-11-09",{"$f":"IFERROR(VLOOKUP(B314,Fixtermine!$B$1:$E$208,3,FALSE),\"\")","v":""}]
["Samstag","2018-11-10",{"$f":"IFERROR(VLOOKUP(B315,Fixtermine!$B$1:$E$208,3,FALSE),\"\")","v":""}]
["Sonntag","2018-11-11",{"$f":"IFERROR(VLOOKUP(B316,Fixtermine!$B$1:$E$208,3,FALSE),\"\")","v":""}]
["Montag","2018-11-12",{"$f":"IFERROR(VLOOKUP(B317,Fixtermine!$B$1:$E$208,3,FALSE),\"\")","v":""}]
["Dienstag","2018-11-13",{"$f":"IFERROR(VLOOKUP(B318,Fixtermine!$B$1:$E$208,3,FALSE),\"\")","v":""}]
["Mittwoch","2018-11-14",{"$f":"IFERROR(VLOOKUP(B319,Fixtermine!$B$1:$E$208,3,FALSE),\"\")","v":""}]
["Donnerstag","2018-11-15",{"$f":"IFERROR(VLOOKUP(B320,Fixtermine!$B$1:$E$208,3,FALSE),\"\")","v":""}]
["Freitag","2018-11-16",{"$f":"IFERROR(VLOOKUP(B321,Fixtermine!$B$1:$E$208,3,FALSE),\"\")","v":""}]
["Samstag","2018-11-17",{"$f":"IFERROR(VLOOKUP(B322,Fixtermine!$B$1:$E$208,3,FALSE),\"\")","v":""}]
[{"$f":"CHOOSE(WEEKDAY(B323),\"Sonntag\",\"Montag\",\"Dienstag\",\"Mittwoch\",\"Donnerstag\",\"Freitag\",\"Samstag\")","v":"Sonntag"},"2018-11-18",{"$f":"IFERROR(VLOOKUP(B323,Fixtermine!$B$1:$E$208,3,FALSE),\"\")","v":""}]
["Montag","2018-11-19",{"$f":"IFERROR(VLOOKUP(B324,Fixtermine!$B$1:$E$208,3,FALSE),\"\")","v":""}]
["Dienstag",{"$f":"B324+1","v":"2018-11-20"},{"$f":"IFERROR(VLOOKUP(B325,Fixtermine!$B$1:$E$208,3,FALSE),\"\")","v":""}]
["Mittwoch","2018-11-21",{"$f":"IFERROR(VLOOKUP(B326,Fixtermine!$B$1:$E$208,3,FALSE),\"\")","v":"Buß- u. Bettag"}]
["Donnerstag","2018-11-22",{"$f":"IFERROR(VLOOKUP(B327,Fixtermine!$B$1:$E$208,3,FALSE),\"\")","v":""}]
[{"$f":"CHOOSE(WEEKDAY(B328),\"Sonntag\",\"Montag\",\"Dienstag\",\"Mittwoch\",\"Donnerstag\",\"Freitag\",\"Samstag\")","v":"Freitag"},"2018-11-23",{"$f":"IFERROR(VLOOKUP(B328,Fixtermine!$B$1:$E$208,3,FALSE),\"\")","v":""}]
["Samstag","2018-11-24",{"$f":"IFERROR(VLOOKUP(B329,Fixtermine!$B$1:$E$208,3,FALSE),\"\")","v":""}]
["Sonntag","2018-11-25",{"$f":"IFERROR(VLOOKUP(B330,Fixtermine!$B$1:$E$208,3,FALSE),\"\")","v":""}]
["Montag","2018-11-26",{"$f":"IFERROR(VLOOKUP(B331,Fixtermine!$B$1:$E$208,3,FALSE),\"\")","v":""}]
["Dienstag","2018-11-27",{"$f":"IFERROR(VLOOKUP(B332,Fixtermine!$B$1:$E$208,3,FALSE),\"\")","v":""}]
["Mittwoch","2018-11-28",{"$f":"IFERROR(VLOOKUP(B333,Fixtermine!$B$1:$E$208,3,FALSE),\"\")","v":""}]
["Donnerstag","2018-11-29",{"$f":"IFERROR(VLOOKUP(B334,Fixtermine!$B$1:$E$208,3,FALSE),\"\")","v":""}]
["Freitag","2018-11-30",{"$f":"IFERROR(VLOOKUP(B335,Fixtermine!$B$1:$E$208,3,FALSE),\"\")","v":""}]
["Samstag","2018-12-01",{"$f":"IFERROR(VLOOKUP(B336,Fixtermine!$B$1:$E$208,3,FALSE),\"\")","v":""}]
["Sonntag","2018-12-02",{"$f":"IFERROR(VLOOKUP(B337,Fixtermine!$B$1:$E$208,3,FALSE),\"\")","v":"1. Advent"}]
["Montag","2018-12-03",{"$f":"IFERROR(VLOOKUP(B338,Fixtermine!$B$1:$E$208,3,FALSE),\"\")","v":""}]
["Dienstag","2018-12-04",{"$f":"IFERROR(VLOOKUP(B339,Fixtermine!$B$1:$E$208,3,FALSE),\"\")","v":""}]
["Mittwoch","2018-12-05",{"$f":"IFERROR(VLOOKUP(B340,Fixtermine!$B$1:$E$208,3,FALSE),\"\")","v":""}]
["Donnerstag","2018-12-06",{"$f":"IFERROR(VLOOKUP(B341,Fixtermine!$B$1:$E$208,3,FALSE),\"\")","v":""}]
["Freitag","2018-12-07",{"$f":"IFERROR(VLOOKUP(B342,Fixtermine!$B$1:$E$208,3,FALSE),\"\")","v":""}]
["Samstag","2018-12-08",{"$f":"IFERROR(VLOOKUP(B343,Fixtermine!$B$1:$E$208,3,FALSE),\"\")","v":""}]
["Sonntag","2018-12-09",{"$f":"IFERROR(VLOOKUP(B344,Fixtermine!$B$1:$E$208,3,FALSE),\"\")","v":"2. Advent"}]
["Montag","2018-12-10",{"$f":"IFERROR(VLOOKUP(B345,Fixtermine!$B$1:$E$208,3,FALSE),\"\")","v":""}]
["Dienstag","2018-12-11",{"$f":"IFERROR(VLOOKUP(B346,Fixtermine!$B$1:$E$208,3,FALSE),\"\")","v":""}]
[{"$f":"CHOOSE(WEEKDAY(B347),\"Sonntag\",\"Montag\",\"Dienstag\",\"Mittwoch\",\"Donnerstag\",\"Freitag\",\"Samstag\")","v":"Mittwoch"},"2018-12-12",{"$f":"IFERROR(VLOOKUP(B347,Fixtermine!$B$1:$E$208,3,FALSE),\"\")","v":""}]
["Donnerstag","2018-12-13",{"$f":"IFERROR(VLOOKUP(B348,Fixtermine!$B$1:$E$208,3,FALSE),\"\")","v":""}]
["Freitag","2018-12-14",{"$f":"IFERROR(VLOOKUP(B349,Fixtermine!$B$1:$E$208,3,FALSE),\"\")","v":""}]
["Samstag","2018-12-15",{"$f":"IFERROR(VLOOKUP(B350,Fixtermine!$B$1:$E$208,3,FALSE),\"\")","v":""}]
["Sonntag","2018-12-16",{"$f":"IFERROR(VLOOKUP(B351,Fixtermine!$B$1:$E$208,3,FALSE),\"\")","v":"3. Advent"}]
["Montag","2018-12-17",{"$f":"IFERROR(VLOOKUP(B352,Fixtermine!$B$1:$E$208,3,FALSE),\"\")","v":""}]
["Dienstag","2018-12-18",{"$f":"IFERROR(VLOOKUP(B353,Fixtermine!$B$1:$E$208,3,FALSE),\"\")","v":""}]
["Mittwoch","2018-12-19",{"$f":"IFERROR(VLOOKUP(B354,Fixtermine!$B$1:$E$208,3,FALSE),\"\")","v":""}]
["Donnerstag","2018-12-20",{"$f":"IFERROR(VLOOKUP(B355,Fixtermine!$B$1:$E$208,3,FALSE),\"\")","v":""}]
["Freitag","2018-12-21",{"$f":"IFERROR(VLOOKUP(B356,Fixtermine!$B$1:$E$208,3,FALSE),\"\")","v":""}]
["Samstag","2018-12-22",{"$f":"IFERROR(VLOOKUP(B357,Fixtermine!$B$1:$E$208,3,FALSE),\"\")","v":""}]
["Sonntag","2018-12-23",{"$f":"IFERROR(VLOOKUP(B358,Fixtermine!$B$1:$E$208,3,FALSE),\"\")","v":"4. Apfent"}]
["Montag","2018-12-24",{"$f":"IFERROR(VLOOKUP(B359,Fixtermine!$B$1:$E$208,3,FALSE),\"\")","v":"Hl. Abend / Ferien"}]
["Dienstag","2018-12-25",{"$f":"IFERROR(VLOOKUP(B360,Fixtermine!$B$1:$E$208,3,FALSE),\"\")","v":"FT-1. Weihnachtsfeiertag"}]
["Mittwoch","2018-12-26",{"$f":"IFERROR(VLOOKUP(B361,Fixtermine!$B$1:$E$208,3,FALSE),\"\")","v":"FT-2. Weihnachtsfeiertag"}]
["Donnerstag","2018-12-27",{"$f":"IFERROR(VLOOKUP(B362,Fixtermine!$B$1:$E$208,3,FALSE),\"\")","v":"Weihnachtsferien"}]
["Freitag","2018-12-28",{"$f":"IFERROR(VLOOKUP(B363,Fixtermine!$B$1:$E$208,3,FALSE),\"\")","v":"Weihnachtsferien"}]
["Samstag","2018-12-29",{"$f":"IFERROR(VLOOKUP(B364,Fixtermine!$B$1:$E$208,3,FALSE),\"\")","v":"Weihnachtsferien"}]
["Sonntag","2018-12-30",{"$f":"IFERROR(VLOOKUP(B365,Fixtermine!$B$1:$E$208,3,FALSE),\"\")","v":"Weihnachtsferien"}]
["Montag","2018-12-31",{"$f":"IFERROR(VLOOKUP(B366,Fixtermine!$B$1:$E$208,3,FALSE),\"\")","v":"Weihnachtsferien"}]
[{"$f":"IF(B367=\"\",\"\",CHOOSE(WEEKDAY(B367),\"Sonntag\",\"Montag\",\"Dienstag\",\"Mittwoch\",\"Donnerstag\",\"Freitag\",\"Samstag\"))","v":""},{"$f":"IF(YEAR(B366+1)>YEAR(B366),\"\",B366+1)","v":""},{"$f":"IFERROR(VLOOKUP(B367,Fixtermine!$B$1:$E$208,3,FALSE),\"\")","v":""}]
[]
[null,{"$f":"SUBTOTAL(2,B2:B367)","v":365},"Tag/e"]

{"sheet":"Fixtermine","index":1,"n_rows":208,"n_cols":11,"rows_kept":208,"hidden":true,"merged":[[1,6,12,6],[43,6,43,8],[105,6,116,6],[147,6,147,8]]}
[{"$f":"CHOOSE(WEEKDAY(E1),\"Sonntag\",\"Montag\",\"Dienstag\",\"Mittwoch\",\"Donnerstag\",\"Freitag\",\"Samstag\")","v":"Sonntag"},{"$f":"B2-7","v":43436},null,"1. Advent",{"$f":"B1","v":"2018-12-02"},null,"Jahr",{"$f":"YEAR(Kalender!B2)","v":2018}]
["Sonntag",{"$f":"B3-7","v":43443},null,"2. Advent","2018-12-09",null,"Gausssche Osterformel",{"$f":"MOD(H1,19)","v":4}]
["Sonntag",{"$f":"B4-7","v":43450},null,"3. Advent","2018-12-16",null,null,{"$f":"MOD(H1,4)","v":2}]
["Sonntag",{"$f":"B7-WEEKDAY(B7)+1","v":43457},null,{"$f":"IF(WEEKDAY(B7)=1,D7,\"4. Apfent\")","v":"4. Apfent"},{"$f":"B4","v":"2018-12-23"},null,null,{"$f":"MOD(H1,7)","v":2}]
[{"$f":"CHOOSE(WEEKDAY(E5),\"Sonntag\",\"Montag\",\"Dienstag\",\"Mittwoch\",\"Donnerstag\",\"Freitag\",\"Samstag\")","v":"Mittwoch"},{"$f":"DATEVALUE(E5)","v":43376},"03.10.","FT-Tag d. Deut. Einheit",{"$f":"CONCATENATE(C5,$H$1)","v":"03.10.2018"},null,null,{"$f":"TRUNC((8*(TRUNC(H1/100))+13)/25)-2","v":4}]
["Donnerstag",43405,"01.11.","FT-Allerheiligen","01.11.2018",null,null,{"$f":"TRUNC(H1/100)-TRUNC(H1/400)-2","v":13}]
["Montag",43458,"24.12.","Hl. Abend / Ferien","24.12.2018",null,null,{"$f":"MOD(15+H6-H5,30)","v":24}]
["Dienstag",43459,"25.12.","FT-1. Weihnachtsfeiertag","25.12.2018",null,null,{"$f":"MOD(6+H6,7)","v":5}]
["Mittwoch",43460,"26.12.","FT-2. Weihnachtsfeiertag","26.12.2018",null,null,{"$f":"MOD(H7+19*H2,30)","v":10}]
["Montag",43101,"01.01.","FT-Neujahr","01.01.2018",null,null,{"$f":"IF(H9=29,28,IF(AND(H9=28,H2>=11),27,IF(AND(H9<28,H9>29),,H9)))","v":10}]
["Samstag",43106,"06.01.","FT-Hl. 3 Könige","06.01.2018",null,null,{"$f":"MOD(2*H3+4*H4+6*H10+H8,7)","v":0}]
["Dienstag",43221,"01.05.","FT-Tag der Arbeit","01.05.2018",null,null,{"$f":"H10+H11+1","v":11}]
["Mittwoch",43327,"15.08.","FT-Maria Himmeklfahrt","15.08.2018",null,null,{"$f":"DATEVALUE(CONCATENATE(\"21.märz\",H1))","v":43180}]
["Montag",{"$f":"$B$6+2-$I$31","v":43402},null,"Herbstferien",{"$f":"B14","v":"2018-10-29"},null,"Ostersonntag",{"$f":"H12+H13","v":"2018-04-01"}]
["Dienstag",{"$f":"$B$6+3-$I$31","v":43403},null,"Herbstferien","2018-10-30",null,"Tag",{"$f":"DAY(H14)","v":1}]
["Mittwoch",{"$f":"$B$6+4-$I$31","v":43404},null,"Herbstferien",{"$f":"B16","v":"2018-10-31"},null,"Monat",{"$f":"MONTH(H14)","v":4}]
["Donnerstag",{"$f":"$B$6+5-$I$31","v":43405},null,"Herbstferien",{"$f":"B17","v":"2018-11-01"},null,"Jahr",{"$f":"YEAR(H14)","v":2018}]
["Freitag",{"$f":"$B$6+6-$I$31","v":43406},null,"Herbstferien",{"$f":"B18","v":"2018-11-02"},null,"Zusammengebastelt",{"$f":"CONCATENATE(H15,\".\",H16,\".\",H17)","v":"1.4.2018"}]
["Mittwoch",{"$f":"DATEVALUE(E19)","v":43425},{"$f":"VLOOKUP(4,$G$23:$J$29,3,TRUE)","v":"21.11."},"Buß- u. Bettag",{"$f":"CONCATENATE(C19,$H$1)","v":"21.11.2018"}]
["Donnerstag",43461,"27.12.","Weihnachtsferien","27.12.2018",null,"akt. Dat.(Heute)",{"$f":"TODAY()","v":43235}]
["Freitag",43462,"28.12.","Weihnachtsferien","28.12.2018"]
["Samstag",43463,"29.12.","Weihnachtsferien","29.12.2018",null,"Buß- u. Bettag zw. 16.11. und 22.11."]
["Sonntag",43464,"30.12.","Weihnachtsferien","30.12.2018",null,{"$f":"WEEKDAY(J23)","v":6},{"$f":"CHOOSE(WEEKDAY(J23),\"Sonntag\",\"Montag\",\"Dienstag\",\"Mittwoch\",\"Donnerstag\",\"Freitag\",\"Samstag\")","v":"Freitag"},"16.11.",{"$f":"CONCATENATE(I23,$H$1)","v":"16.11.2018"}]
["Montag",43465,"31.12.","Weihnachtsferien","31.12.2018",null,7,"Samstag","17.11.","17.11.2018"]
["Dienstag",43102,"02.01.","Weihnachtsferien","02.01.2018",null,1,"Sonntag","18.11.","18.11.2018"]
["Mittwoch",43103,"03.01.","Weihnachtsferien","03.01.2018",null,2,"Montag","19.11.","19.11.2018"]
["Donnerstag",43104,"04.01.","Weihnachtsferien","04.01.2018",null,3,"Dienstag","20.11.","20.11.2018"]
["Freitag",43105,"05.01.","Weihnachtsferien","05.01.2018",null,4,"Mittwoch","21.11.","21.11.2018"]
["Montag",{"$f":"DATEVALUE(H$18)-48","v":43143},null,"Frühjahrsferien",{"$f":"B29","v":"2018-02-12"},null,5,"Donnerstag","22.11.","22.11.2018"]
["Dienstag",{"$f":"DATEVALUE(H$18)-47","v":43144},null,"Frühjahrsferien","2018-02-13"]
["Mittwoch",{"$f":"DATEVALUE(H$18)-46","v":43145},null,"Aschermittw. / Ferien","2018-02-14",null,"Herbstferienberechn.","Wochentagserm.",{"$f":"VLOOKUP(C6,G32:J42,2,TRUE)","v":5},{"$f":"CHOOSE(WEEKDAY(I31),\"Sonntag\",\"Montag\",\"Dienstag\",\"Mittwoch\",\"Donnerstag\",\"Freitag\",\"Samstag\")","v":"Donnerstag"}]
["Donnerstag",{"$f":"DATEVALUE(H$18)-45","v":43146},null,"Frühjahrsferien","2018-02-15",null,"27.10.",{"$f":"WEEKDAY(J32)","v":7},{"$f":"CHOOSE(WEEKDAY(J32),\"Sonntag\",\"Montag\",\"Dienstag\",\"Mittwoch\",\"Donnerstag\",\"Freitag\",\"Samstag\")","v":"Samstag"},{"$f":"CONCATENATE(G32,$H$1)","v":"27.10.2018"}]
["Freitag",{"$f":"DATEVALUE(H$18)-44","v":43147},null,"Frühjahrsferien","2018-02-16",null,"28.10.",1,"Sonntag","28.10.2018"]
["Montag",{"$f":"DATEVALUE(H$18)-6","v":43185},null,"Osterferien","2018-03-26",null,"29.10.",2,"Montag","29.10.2018"]
["Dienstag",{"$f":"DATEVALUE(H$18)-5","v":43186},null,"Osterferien","2018-03-27",null,"30.10.",3,"Dienstag","30.10.2018"]
["Mittwoch",{"$f":"DATEVALUE(H$18)-4","v":43187},null,"Osterferien","2018-03-28",null,"31.10.",4,"Mittwoch","31.10.2018"]
["Donnerstag",{"$f":"DATEVALUE(H$18)-3","v":43188},null,"Osterferien","2018-03-29",null,"01.11.",5,"Donnerstag","01.11.2018"]
["Freitag",{"$f":"DATEVALUE(H$18)-2","v":43189},null,"FT-Karfreitag","2018-03-30",null,"02.11.",6,"Freitag","02.11.2018"]
["Samstag",{"$f":"DATEVALUE(H$18)-1","v":43190},null,"Osterferien","2018-03-31",null,"03.11.",7,"Samstag","03.11.2018"]
[{"$f":"CHOOSE(WEEKDAY(E47),\"Sonntag\",\"Montag\",\"Dienstag\",\"Mittwoch\",\"Donnerstag\",\"Freitag\",\"Samstag\")","v":"Sonntag"},{"$f":"DATEVALUE(H$18)","v":43191},null,"FT-Ostersonntag","2018-04-01",null,"04.11.",1,"Sonntag","04.11.2018"]
[{"$f":"CHOOSE(WEEKDAY(E41),\"Sonntag\",\"Montag\",\"Dienstag\",\"Mittwoch\",\"Donnerstag\",\"Freitag\",\"Samstag\")","v":"Montag"},{"$f":"DATEVALUE(H$18)+1","v":43192},null,"FT-Ostermontag","2018-04-02",null,"05.11.",2,"Montag","05.11.2018"]
["Dienstag",{"$f":"DATEVALUE(H$18)+2","v":43193},null,"Osterferien","2018-04-03",null,"06.11.",3,"Dienstag","06.11.2018"]
["Mittwoch",{"$f":"DATEVALUE(H$18)+3","v":43194},null,"Osterferien","2018-04-04"]
["Donnerstag",{"$f":"DATEVALUE(H$18)+4","v":43195},null,"Osterferien","2018-04-05",null,"Sommerferientabelle",null,null,"Beginn","Ende (einschließlich)"]
["Freitag",{"$f":"DATEVALUE(H$18)+5","v":43196},null,"Osterferien","2018-04-06",null,{"$f":"IF(J45=0,\"\",YEAR(J45))","v":2016},{"$f":"IF(J45=0,\"\",CONCATENATE(IF(DAY(J45)<10,CONCATENATE(\"0\",DAY(J45)),DAY(J45)),\".\",IF(MONTH(J45)<10,CONCATENATE(\"0\",MONTH(J45)),MONTH(J45)),\".\"))","v":"30.07."},{"$f":"IF(K45=0,\"\",CONCATENATE(IF(DAY(K45)<10,CONCATENATE(\"0\",DAY(K45)),DAY(K45)),\".\",IF(MONTH(K45)<10,CONCATENATE(\"0\",MONTH(K45)),MONTH(K45)),\".\"))","v":"12.09."},"2016-07-30","2016-09-12"]
["Donnerstag",{"$f":"DATEVALUE(H$18)+39","v":43230},null,"FT-Ch. Himmelfahrt","2018-05-10",null,{"$f":"IF(J46=0,\"\",YEAR(J46))","v":2017},{"$f":"IF(J46=0,\"\",CONCATENATE(IF(DAY(J46)<10,CONCATENATE(\"0\",DAY(J46)),DAY(J46)),\".\",IF(MONTH(J46)<10,CONCATENATE(\"0\",MONTH(J46)),MONTH(J46)),\".\"))","v":"29.07."},{"$f":"IF(K46=0,\"\",CONCATENATE(IF(DAY(K46)<10,CONCATENATE(\"0\",DAY(K46)),DAY(K46)),\".\",IF(MONTH(K46)<10,CONCATENATE(\"0\",MONTH(K46)),MONTH(K46)),\".\"))","v":"11.09."},"2017-07-29","2017-09-11"]
["Sonntag",{"$f":"DATEVALUE(H$18)+49","v":43240},null,"FT-Pfingstsonntag","2018-05-20",null,2018,"30.07.","10.09.","2018-07-30","2018-09-10"]
["Montag",{"$f":"DATEVALUE(H$18)+50","v":43241},null,"FT-Pfingstmontag","2018-05-21",null,2019,"29.07.","09.09.","2019-07-29","2019-09-09"]
["Dienstag",{"$f":"DATEVALUE(H$18)+51","v":43242},null,"Pfingstferien","2018-05-22",null,2020,"27.07.","07.09.","2020-07-27","2020-09-07"]
["Mittwoch",{"$f":"DATEVALUE(H$18)+52","v":43243},null,"Pfingstferien","2018-05-23",null,2021,"30.07.","13.09.","2021-07-30","2021-09-13"]
["Donnerstag",{"$f":"DATEVALUE(H$18)+53","v":43244},null,"Pfingstferien","2018-05-24",null,2022,"01.08.","12.09.","2022-08-01","2022-09-12"]
["Freitag",{"$f":"DATEVALUE(H$18)+54","v":43245},null,"Pfingstferien","2018-05-25",null,2023,"31.07.","11.09.","2023-07-31","2023-09-11"]
["Samstag",{"$f":"DATEVALUE(H$18)+55","v":43246},null,"Pfingstferien","2018-05-26",null,2024,"29.07.","09.09.","2024-07-29","2024-09-09"]
["Sonntag",{"$f":"DATEVALUE(H$18)+56","v":43247},null,"Pfingstferien","2018-05-27",null,"","",""]
["Montag",{"$f":"DATEVALUE(H$18)+57","v":43248},null,"Pfingstferien","2018-05-28",null,"","",""]
["Dienstag",{"$f":"DATEVALUE(H$18)+58","v":43249},null,"Pfingstferien","2018-05-29",null,"","",""]
["Mittwoch",{"$f":"DATEVALUE(H$18)+59","v":43250},null,"Pfingstferien","2018-05-30",null,"","",""]
["Donnerstag",{"$f":"DATEVALUE(H$18)+60","v":43251},null,"FT-Fronleichnam","2018-05-31",null,"","",""]
["Freitag",{"$f":"DATEVALUE(H$18)+61","v":43252},null,"Pfingstferien","2018-06-01",null,"","",""]
["Montag",{"$f":"DATEVALUE(E60)","v":43311},{"$f":"$H$103","v":"30.07."},"Sommerferien",{"$f":"CONCATENATE(C60,$H$1)","v":"30.07.2018"},null,"","",""]
["Dienstag",{"$f":"IF((B60+1)<$B$104,B60+1,$B$104)","v":43312},null,"Sommerferien",{"$f":"B61","v":"2018-07-31"},null,"","",""]
["Mittwoch",43313,null,"Sommerferien","2018-08-01",null,"","",""]
["Donnerstag",43314,null,"Sommerferien","2018-08-02",null,"","",""]
["Freitag",43315,null,"Sommerferien","2018-08-03",null,"","",""]
["Samstag",43316,null,"Sommerferien","2018-08-04",null,"","",""]
["Sonntag",43317,null,"Sommerferien","2018-08-05",null,"","",""]
["Montag",43318,null,"Sommerferien","2018-08-06",null,"","",""]
["Dienstag",43319,null,"Sommerferien","2018-08-07",null,"","",""]
["Mittwoch",43320,null,"Sommerferien",{"$f":"B69","v":"2018-08-08"},null,"","",""]
["Donnerstag",43321,null,"Sommerferien","2018-08-09",null,"","",""]
["Freitag",43322,null,"Sommerferien","2018-08-10",null,"","",""]
["Samstag",43323,null,"Sommerferien","2018-08-11",null,"","",""]
[{"$f":"CHOOSE(WEEKDAY(E73),\"Sonntag\",\"Montag\",\"Dienstag\",\"Mittwoch\",\"Donnerstag\",\"Freitag\",\"Samstag\")","v":"Sonntag"},43324,null,"Sommerferien","2018-08-12",null,"","",""]
["Montag",43325,null,"Sommerferien","2018-08-13",null,"","",""]
["Dienstag",43326,null,"Sommerferien","2018-08-14",null,"","",""]
["Mittwoch",43327,null,"Sommerferien","2018-08-15",null,"","",""]
["Donnerstag",43328,null,"Sommerferien","2018-08-16",null,"","",""]
["Freitag",43329,null,"Sommerferien","2018-08-17",null,"","",{"$f":"IF(K78=0,\"\",CONCATENATE(IF(DAY(K78)<10,CONCATENATE(\"0\",DAY(K78)),DAY(K78)),\".\",IF(MONTH(K78)<10,CONCATENATE(\"0\",MONTH(K78)),MONTH(K78)),\".\"))","v":""}]
["Samstag",43330,null,"Sommerferien","2018-08-18",null,"","",""]
["Sonntag",43331,null,"Sommerferien","2018-08-19",null,"","",""]
["Montag",43332,null,"Sommerferien","2018-08-20",null,"","",""]
["Dienstag",43333,null,"Sommerferien","2018-08-21",null,"","",""]
["Mittwoch",43334,null,"Sommerferien","2018-08-22",null,"","",""]
["Donnerstag",43335,null,"Sommerferien",{"$f":"B84","v":"2018-08-23"},null,"","",""]
["Freitag",43336,null,"Sommerferien","2018-08-24",null,"","",""]
["Samstag",43337,null,"Sommerferien","2018-08-25",null,"","",""]
["Sonntag",43338,null,"Sommerferien","2018-08-26",null,"","",""]
["Montag",43339,null,"Sommerferien","2018-08-27",null,"","",""]
["Dienstag",43340,null,"Sommerferien","2018-08-28",null,"","",""]
["Mittwoch",43341,null,"Sommerferien","2018-08-29",null,"","",""]
["Donnerstag",43342,null,"Sommerferien","2018-08-30",null,"","",""]
["Freitag",43343,null,"Sommerferien","2018-08-31",null,"","",""]
["Samstag",43344,null,"Sommerferien","2018-09-01",null,"","",""]
["Sonntag",43345,null,"Sommerferien","2018-09-02",null,"","",""]
["Montag",43346,null,"Sommerferien","2018-09-03",null,"","",""]
["Dienstag",43347,null,"Sommerferien","2018-09-04",null,"","",""]
["Mittwoch",43348,null,"Sommerferien","2018-09-05",null,"","",""]
["Donnerstag",43349,null,"Sommerferien","2018-09-06",null,"","",""]
["Freitag",43350,null,"Sommerferien","2018-09-07",null,"","",""]
["Samstag",43351,null,"Sommerferien","2018-09-08",null,"","",""]
["Sonntag",43352,null,"Sommerferien","2018-09-09",null,{"$f":"IF(J101=0,\"\",YEAR(J101))","v":""},{"$f":"IF(J80=0,\"\",CONCATENATE(IF(DAY(J101)<10,CONCATENATE(\"0\",DAY(J101)),DAY(J101)),\".\",IF(MONTH(J101)<10,CONCATENATE(\"0\",MONTH(J101)),MONTH(J101)),\".\"))","v":""},""]
["Montag",43353,null,"Sommerferien","2018-09-10"]
["Montag",{"$f":"IF((B102+1)<$B$104,B102+1,$B$104)","v":43353},null,"Sommerferien","2018-09-10",null,{"$f":"$H$1","v":2018},{"$f":"VLOOKUP($H$1,$G$45:$J$101,2)","v":"30.07."},{"$f":"VLOOKUP($H$1,$G$45:$J$101,3)","v":"10.09."}]
["Montag",{"$f":"DATEVALUE(E104)","v":43353},{"$f":"$I$103","v":"10.09."},"Sommerferien",{"$f":"CONCATENATE(C104,$H$1)","v":"10.09.2018"},null,{"$f":"$H105","v":2019},{"$f":"VLOOKUP($H$105,$G$45:$J$101,2)","v":"29.07."},{"$f":"VLOOKUP($H$105,$G$45:$J$101,3)","v":"09.09."}]
[{"$f":"CHOOSE(WEEKDAY(E105),\"Sonntag\",\"Montag\",\"Dienstag\",\"Mittwoch\",\"Donnerstag\",\"Freitag\",\"Samstag\")","v":"Sonntag"},{"$f":"B106-7","v":43800},null,"1. Advent",{"$f":"B105","v":"2019-12-01"},null,"Jahr",{"$f":"H1+1","v":2019}]
["Sonntag",{"$f":"B107-7","v":43807},null,"2. Advent","2019-12-08",null,"Gausssche Osterformel",{"$f":"MOD(H105,19)","v":5}]
["Sonntag",{"$f":"B108-7","v":43814},null,"3. Advent","2019-12-15",null,null,{"$f":"MOD(H105,4)","v":3}]
["Sonntag",{"$f":"B111-WEEKDAY(B111)+1","v":43821},null,{"$f":"IF(WEEKDAY(B111)=1,D111,\"4. Apfent\")","v":"4. Apfent"},{"$f":"B108","v":"2019-12-22"},null,null,{"$f":"MOD(H105,7)","v":3}]
["Donnerstag",{"$f":"DATEVALUE(E109)","v":43741},"03.10.","FT-Tag d. Deut. Einheit",{"$f":"CONCATENATE(C109,$H$105)","v":"03.10.2019"},null,null,{"$f":"TRUNC((8*(TRUNC(H105/100))+13)/25)-2","v":4}]
["Freitag",43770,"01.11.","FT-Allerheiligen",{"$f":"CONCATENATE(C110,$H$105)","v":"01.11.2019"},null,null,{"$f":"TRUNC(H105/100)-TRUNC(H105/400)-2","v":13}]
["Dienstag",43823,"24.12.","Hl. Abend / Ferien",{"$f":"CONCATENATE(C111,$H$105)","v":"24.12.2019"},null,null,{"$f":"MOD(15+H110-H109,30)","v":24}]
["Mittwoch",43824,"25.12.","FT-1. Weihnachtsfeiertag",{"$f":"CONCATENATE(C112,$H105)","v":"25.12.2019"},null,null,{"$f":"MOD(6+H110,7)","v":5}]
["Donnerstag",43825,"26.12.","FT-2. Weihnachtsfeiertag",{"$f":"CONCATENATE(C113,$H$105)","v":"26.12.2019"},null,null,{"$f":"MOD(H111+19*H106,30)","v":29}]
["Dienstag",43466,"01.01.","FT-Neujahr",{"$f":"CONCATENATE(C114,$H$105)","v":"01.01.2019"},null,null,{"$f":"IF(H113=29,28,IF(AND(H113=28,H106>=11),27,IF(AND(H113<28,H113>29),,H113)))","v":28}]
["Sonntag",43471,"06.01.","FT-Hl. 3 Könige",{"$f":"CONCATENATE(C115,$H$105)","v":"06.01.2019"},null,null,{"$f":"MOD(2*H107+4*H108+6*H114+H112,7)","v":2}]
["Mittwoch",43586,"01.05.","FT-Tag der Arbeit",{"$f":"CONCATENATE(C116,$H$105)","v":"01.05.2019"},null,null,{"$f":"H114+H115+1","v":31}]
["Donnerstag",43692,"15.08.","FT-Maria Himmeklfahrt",{"$f":"CONCATENATE(C117,$H$105)","v":"15.08.2019"},null,null,{"$f":"DATEVALUE(CONCATENATE(\"21.märz\",H105))","v":43545}]
["Dienstag",{"$f":"$B$110+2-$I135","v":43767},null,"Herbstferien",{"$f":"B118","v":"2019-10-29"},null,"Ostersonntag",{"$f":"H116+H117","v":"2019-04-21"}]
["Mittwoch",{"$f":"$B$110+3-$I$135","v":43768},null,"Herbstferien","2019-10-30",null,"Tag",{"$f":"DAY(H118)","v":21}]
["Donnerstag",{"$f":"$B$110+4-$I$135","v":43769},null,"Herbstferien",{"$f":"B120","v":"2019-10-31"},null,"Monat",{"$f":"MONTH(H118)","v":4}]
["Freitag",{"$f":"$B$110+5-$I$135","v":43770},null,"Herbstferien",{"$f":"B121","v":"2019-11-01"},null,"Jahr",{"$f":"YEAR(H118)","v":2019}]
["Samstag",{"$f":"$B$110+6-$I$135","v":43771},null,"Herbstferien",{"$f":"B122","v":"2019-11-02"},null,"Zusammengebastelt",{"$f":"CONCATENATE(H119,\".\",H120,\".\",H121)","v":"21.4.2019"}]
["Donnerstag",{"$f":"DATEVALUE(E123)","v":43790},{"$f":"VLOOKUP(4,$G$23:$J$29,3,TRUE)","v":"21.11."},"Buß- u. Bettag",{"$f":"CONCATENATE(C123,$H$105)","v":"21.11.2019"}]
["Freitag",43826,"27.12.","Weihnachtsferien","27.12.2019",null,"akt. Dat.(Heute)",{"$f":"TODAY()","v":43235}]
["Samstag",43827,"28.12.","Weihnachtsferien","28.12.2019"]
["Sonntag",43828,"29.12.","Weihnachtsferien","29.12.2019",null,"Buß- u. Bettag zw. 16.11. und 22.11."]
["Montag",43829,"30.12.","Weihnachtsferien","30.12.2019",null,{"$f":"WEEKDAY(J127)","v":6},{"$f":"CHOOSE(WEEKDAY(J127),\"Sonntag\",\"Montag\",\"Dienstag\",\"Mittwoch\",\"Donnerstag\",\"Freitag\",\"Samstag\")","v":"Freitag"},"16.11.",{"$f":"CONCATENATE(I127,$H$1)","v":"16.11.2018"}]
["Dienstag",43830,"31.12.","Weihnachtsferien","31.12.2019",null,7,"Samstag","17.11.","17.11.2018"]
["Mittwoch",43467,"02.01.","Weihnachtsferien","02.01.2019",null,1,"Sonntag","18.11.","18.11.2018"]
["Donnerstag",43468,"03.01.","Weihnachtsferien","03.01.2019",null,2,"Montag","19.11.","19.11.2018"]
["Freitag",43469,"04.01.","Weihnachtsferien","04.01.2019",null,3,"Dienstag","20.11.","20.11.2018"]
["Samstag",43470,"05.01.","Weihnachtsferien","05.01.2019",null,4,"Mittwoch","21.11.","21.11.2018"]
["Montag",{"$f":"DATEVALUE(H$122)-48","v":43528},null,"Frühjahrsferien",{"$f":"B133","v":"2019-03-04"},null,5,"Donnerstag","22.11.","22.11.2018"]
["Dienstag",{"$f":"DATEVALUE(H$122)-47","v":43529},null,"Frühjahrsferien","2019-03-05"]
["Mittwoch",{"$f":"DATEVALUE(H$122)-46","v":43530},null,"Aschermittw. / Ferien","2019-03-06",null,"Herbstferienberechn.","Wochentagserm.",{"$f":"VLOOKUP(C110,G136:J146,2,TRUE)","v":5},{"$f":"CHOOSE(WEEKDAY(I135),\"Sonntag\",\"Montag\",\"Dienstag\",\"Mittwoch\",\"Donnerstag\",\"Freitag\",\"Samstag\")","v":"Donnerstag"}]
["Donnerstag",{"$f":"DATEVALUE(H$122)-45","v":43531},null,"Frühjahrsferien","2019-03-07",null,"27.10.",{"$f":"WEEKDAY(J136)","v":7},{"$f":"CHOOSE(WEEKDAY(J136),\"Sonntag\",\"Montag\",\"Dienstag\",\"Mittwoch\",\"Donnerstag\",\"Freitag\",\"Samstag\")","v":"Samstag"},{"$f":"CONCATENATE(G136,$H$1)","v":"27.10.2018"}]
["Freitag",{"$f":"DATEVALUE(H$122)-44","v":43532},null,"Frühjahrsferien","2019-03-08",null,"28.10.",1,"Sonntag","28.10.2018"]
["Montag",{"$f":"DATEVALUE(H$122)-6","v":43570},null,"Osterferien","2019-04-15",null,"29.10.",2,"Montag","29.10.2018"]
["Dienstag",{"$f":"DATEVALUE(H$122)-5","v":43571},null,"Osterferien","2019-04-16",null,"30.10.",3,"Dienstag","30.10.2018"]
["Mittwoch",{"$f":"DATEVALUE(H$122)-4","v":43572},null,"Osterferien","2019-04-17",null,"31.10.",4,"Mittwoch","31.10.2018"]
["Donnerstag",{"$f":"DATEVALUE(H$122)-3","v":43573},null,"Osterferien","2019-04-18",null,"01.11.",5,"Donnerstag","01.11.2018"]
["Freitag",{"$f":"DATEVALUE(H$122)-2","v":43574},null,"FT-Karfreitag","2019-04-19",null,"02.11.",6,"Freitag","02.11.2018"]
["Samstag",{"$f":"DATEVALUE(H$122)-1","v":43575},null,"Osterferien","2019-04-20",null,"03.11.",7,"Samstag","03.11.2018"]
[{"$f":"CHOOSE(WEEKDAY(E151),\"Sonntag\",\"Montag\",\"Dienstag\",\"Mittwoch\",\"Donnerstag\",\"Freitag\",\"Samstag\")","v":"Sonntag"},{"$f":"DATEVALUE(H$122)","v":43576},null,"FT-Ostersonntag","2019-04-21",null,"04.11.",1,"Sonntag","04.11.2018"]
[{"$f":"CHOOSE(WEEKDAY(E145),\"Sonntag\",\"Montag\",\"Dienstag\",\"Mittwoch\",\"Donnerstag\",\"Freitag\",\"Samstag\")","v":"Montag"},{"$f":"DATEVALUE(H$122)+1","v":43577},null,"FT-Ostermontag","2019-04-22",null,"05.11.",2,"Montag","05.11.2018"]
["Dienstag",{"$f":"DATEVALUE(H$122)+2","v":43578},null,"Osterferien","2019-04-23",null,"06.11.",3,"Dienstag","06.11.2018"]
["Mittwoch",{"$f":"DATEVALUE(H$122)+3","v":43579},null,"Osterferien","2019-04-24"]
["Donnerstag",{"$f":"DATEVALUE(H$122)+4","v":43580},null,"Osterferien","2019-04-25"]
["Freitag",{"$f":"DATEVALUE(H$122)+5","v":43581},null,"Osterferien","2019-04-26"]
["Donnerstag",{"$f":"DATEVALUE(H$122)+39","v":43615},null,"FT-Ch. Himmelfahrt","2019-05-30"]
["Sonntag",{"$f":"DATEVALUE(H$122)+49","v":43625},null,"FT-Pfingstsonntag","2019-06-09"]
["Montag",{"$f":"DATEVALUE(H$122)+50","v":43626},null,"FT-Pfingstmontag","2019-06-10"]
["Dienstag",{"$f":"DATEVALUE(H$122)+51","v":43627},null,"Pfingstferien","2019-06-11"]
["Mittwoch",{"$f":"DATEVALUE(H$122)+52","v":43628},null,"Pfingstferien","2019-06-12"]
["Donnerstag",{"$f":"DATEVALUE(H$122)+53","v":43629},null,"Pfingstferien","2019-06-13"]
["Freitag",{"$f":"DATEVALUE(H$122)+54","v":43630},null,"Pfingstferien","2019-06-14"]
["Samstag",{"$f":"DATEVALUE(H$122)+55","v":43631},null,"Pfingstferien","2019-06-15"]
["Sonntag",{"$f":"DATEVALUE(H$122)+56","v":43632},null,"Pfingstferien","2019-06-16"]
["Montag",{"$f":"DATEVALUE(H$122)+57","v":43633},null,"Pfingstferien","2019-06-17"]
["Dienstag",{"$f":"DATEVALUE(H$122)+58","v":43634},null,"Pfingstferien","2019-06-18"]
["Mittwoch",{"$f":"DATEVALUE(H$122)+59","v":43635},null,"Pfingstferien","2019-06-19"]
["Donnerstag",{"$f":"DATEVALUE(H$122)+60","v":43636},null,"FT-Fronleichnam","2019-06-20"]
["Freitag",{"$f":"DATEVALUE(H$122)+61","v":43637},null,"Pfingstferien","2019-06-21"]
["Montag",{"$f":"DATEVALUE(E164)","v":43675},{"$f":"$H$104","v":"29.07."},"Sommerferien",{"$f":"CONCATENATE(C164,$H$105)","v":"29.07.2019"}]
["Dienstag",{"$f":"IF((B164+1)<$B$208,B164+1,$B$208)","v":43676},null,"Sommerferien",{"$f":"B165","v":"2019-07-30"}]
["Mittwoch",43677,null,"Sommerferien","2019-07-31"]
["Donnerstag",43678,null,"Sommerferien","2019-08-01"]
["Freitag",43679,null,"Sommerferien","2019-08-02"]
["Samstag",43680,null,"Sommerferien","2019-08-03"]
["Sonntag",43681,null,"Sommerferien","2019-08-04"]
["Montag",43682,null,"Sommerferien","2019-08-05"]
["Dienstag",43683,null,"Sommerferien","2019-08-06"]
["Mittwoch",43684,null,"Sommerferien","2019-08-07"]
["Donnerstag",43685,null,"Sommerferien","2019-08-08"]
["Freitag",43686,null,"Sommerferien","2019-08-09"]
["Samstag",43687,null,"Sommerferien","2019-08-10"]
["Sonntag",43688,null,"Sommerferien","2019-08-11"]
["Montag",43689,null,"Sommerferien","2019-08-12"]
["Dienstag",43690,null,"Sommerferien","2019-08-13"]
["Mittwoch",43691,null,"Sommerferien","2019-08-14"]
["Donnerstag",43692,null,"Sommerferien","2019-08-15"]
["Freitag",43693,null,"Sommerferien","2019-08-16"]
["Samstag",43694,null,"Sommerferien","2019-08-17"]
["Sonntag",43695,null,"Sommerferien","2019-08-18"]
["Montag",43696,null,"Sommerferien","2019-08-19"]
["Dienstag",43697,null,"Sommerferien","2019-08-20"]
["Mittwoch",43698,null,"Sommerferien","2019-08-21"]
["Donnerstag",43699,null,"Sommerferien","2019-08-22"]
["Freitag",43700,null,"Sommerferien","2019-08-23"]
["Samstag",43701,null,"Sommerferien","2019-08-24"]
["Sonntag",43702,null,"Sommerferien","2019-08-25"]
["Montag",43703,null,"Sommerferien","2019-08-26"]
["Dienstag",43704,null,"Sommerferien","2019-08-27"]
["Mittwoch",43705,null,"Sommerferien","2019-08-28"]
["Donnerstag",43706,null,"Sommerferien","2019-08-29"]
["Freitag",43707,null,"Sommerferien","2019-08-30"]
["Samstag",43708,null,"Sommerferien","2019-08-31"]
["Sonntag",43709,null,"Sommerferien","2019-09-01"]
["Montag",43710,null,"Sommerferien","2019-09-02"]
["Dienstag",43711,null,"Sommerferien","2019-09-03"]
["Mittwoch",43712,null,"Sommerferien","2019-09-04"]
["Donnerstag",43713,null,"Sommerferien","2019-09-05"]
["Freitag",43714,null,"Sommerferien","2019-09-06"]
["Samstag",43715,null,"Sommerferien","2019-09-07"]
["Sonntag",43716,null,"Sommerferien","2019-09-08"]
["Montag",43717,null,"Sommerferien","2019-09-09"]
["Montag",43717,null,"Sommerferien","2019-09-09"]
["Montag",{"$f":"DATEVALUE(E208)","v":43717},{"$f":"$I$104","v":"09.09."},"Sommerferien",{"$f":"CONCATENATE(C208,$H$105)","v":"09.09.2019"}]